BEGIN:VCALENDAR
VERSION:2.0
PRODID:-//Portsea Parish - ECPv5.0.3.1//NONSGML v1.0//EN
CALSCALE:GREGORIAN
METHOD:PUBLISH
X-WR-CALNAME:Portsea Parish
X-ORIGINAL-URL:https://www.portseaparish.co.uk
X-WR-CALDESC:Events for Portsea Parish
BEGIN:VTIMEZONE
TZID:Europe/London
BEGIN:DAYLIGHT
TZOFFSETFROM:+0000
TZOFFSETTO:+0100
TZNAME:BST
DTSTART:20220327T010000
END:DAYLIGHT
BEGIN:STANDARD
TZOFFSETFROM:+0100
TZOFFSETTO:+0000
TZNAME:GMT
DTSTART:20221030T010000
END:STANDARD
END:VTIMEZONE
BEGIN:VEVENT
DTSTART;TZID=Europe/London:20220724T150000
DTEND;TZID=Europe/London:20220724T160000
DTSTAMP:20260423T103125
CREATED:20220717T140918Z
LAST-MODIFIED:20220723T110742Z
UID:34483-1658674800-1658678400@www.portseaparish.co.uk
SUMMARY:A Service of Thanks and Farewell for Revd Marcus
DESCRIPTION:Revd Marcus will be moving to Portsdown and Purbrook to continue his training. We hope you will join us for a service of thanks and farewell. \nYou can follow online either on our YouTube stream or our Facebook page. \nTo follow along with the service\, please find the service sheet here. \n
URL:https://www.portseaparish.co.uk/event/a-service-of-thanks-and-farewell-for-revd-marcus/
LOCATION:St Mary’s Church\, Fratton Road\, Portsmouth\, PO1 5PA\, United Kingdom
ATTACH;FMTTYPE=image/jpeg:https://storage.googleapis.com/portseaparish.appspot.com/1/2022/07/Marcus.jpg
END:VEVENT
END:VCALENDAR