BEGIN:VCALENDAR
VERSION:2.0
PRODID:-//Portsea Parish - ECPv5.0.3.1//NONSGML v1.0//EN
CALSCALE:GREGORIAN
METHOD:PUBLISH
X-WR-CALNAME:Portsea Parish
X-ORIGINAL-URL:https://www.portseaparish.co.uk
X-WR-CALDESC:Events for Portsea Parish
BEGIN:VTIMEZONE
TZID:Europe/London
BEGIN:DAYLIGHT
TZOFFSETFROM:+0000
TZOFFSETTO:+0100
TZNAME:BST
DTSTART:20230326T010000
END:DAYLIGHT
BEGIN:STANDARD
TZOFFSETFROM:+0100
TZOFFSETTO:+0000
TZNAME:GMT
DTSTART:20231029T010000
END:STANDARD
END:VTIMEZONE
BEGIN:VEVENT
DTSTART;TZID=Europe/London:20230908T190000
DTEND;TZID=Europe/London:20230908T200000
DTSTAMP:20260424T035248
CREATED:20230905T091522Z
LAST-MODIFIED:20230905T162436Z
UID:35942-1694199600-1694203200@www.portseaparish.co.uk
SUMMARY:A Sung Mass for the Birthday of Our Lady
DESCRIPTION:Join us in the continuation of our patronal celebrations as we celebrate the Birthday of Our Lady with a sung mass. \nYou can find a livestream of the service on our YouTube channel or our Facebook page. \n \n
URL:https://www.portseaparish.co.uk/event/a-sung-mass-for-the-birthday-of-our-lady/
LOCATION:St Mary’s Church\, Fratton Road\, Portsmouth\, PO1 5PA\, United Kingdom
END:VEVENT
END:VCALENDAR