BEGIN:VCALENDAR
VERSION:2.0
PRODID:-//Portsea Parish - ECPv5.0.3.1//NONSGML v1.0//EN
CALSCALE:GREGORIAN
METHOD:PUBLISH
X-WR-CALNAME:Portsea Parish
X-ORIGINAL-URL:https://www.portseaparish.co.uk
X-WR-CALDESC:Events for Portsea Parish
BEGIN:VTIMEZONE
TZID:Europe/London
BEGIN:DAYLIGHT
TZOFFSETFROM:+0000
TZOFFSETTO:+0100
TZNAME:BST
DTSTART:20180325T010000
END:DAYLIGHT
BEGIN:STANDARD
TZOFFSETFROM:+0100
TZOFFSETTO:+0000
TZNAME:GMT
DTSTART:20181028T010000
END:STANDARD
END:VTIMEZONE
BEGIN:VEVENT
DTSTART;TZID=Europe/London:20180401T080000
DTEND;TZID=Europe/London:20180401T083000
DTSTAMP:20260420T091731
CREATED:20180217T194043Z
LAST-MODIFIED:20180330T094106Z
UID:27215-1522569600-1522571400@www.portseaparish.co.uk
SUMMARY:Book of Common Prayer Communion at St Mary's
DESCRIPTION:A traditional service for Easter morning. \nEaster Alter \n
URL:https://www.portseaparish.co.uk/event/book-of-common-prayer-communion-at-st-marys-2/
LOCATION:St Mary’s Church\, Fratton Road\, Portsmouth\, PO1 5PA\, United Kingdom
CATEGORIES:Easter,Liturgical
ATTACH;FMTTYPE=image/jpeg:https://storage.googleapis.com/portseaparish.appspot.com/1/2018/02/easter_2015.jpg
END:VEVENT
END:VCALENDAR