BEGIN:VCALENDAR
VERSION:2.0
PRODID:-//Portsea Parish - ECPv5.0.3.1//NONSGML v1.0//EN
CALSCALE:GREGORIAN
METHOD:PUBLISH
X-WR-CALNAME:Portsea Parish
X-ORIGINAL-URL:https://www.portseaparish.co.uk
X-WR-CALDESC:Events for Portsea Parish
BEGIN:VTIMEZONE
TZID:Europe/London
BEGIN:DAYLIGHT
TZOFFSETFROM:+0000
TZOFFSETTO:+0100
TZNAME:BST
DTSTART:20230326T010000
END:DAYLIGHT
BEGIN:STANDARD
TZOFFSETFROM:+0100
TZOFFSETTO:+0000
TZNAME:GMT
DTSTART:20231029T010000
END:STANDARD
END:VTIMEZONE
BEGIN:VEVENT
DTSTART;TZID=Europe/London:20230903T100000
DTEND;TZID=Europe/London:20230903T110000
DTSTAMP:20260424T001147
CREATED:20230828T132753Z
LAST-MODIFIED:20230828T132753Z
UID:35914-1693735200-1693738800@www.portseaparish.co.uk
SUMMARY:Celebrating Christs Presence: 13th Sunday after Trinity - 3rd September 2023 - St Mary's Church\, Portsea
DESCRIPTION:To watch the service\, you can go to our YouTube stream\, or our Facebook page. \nTo follow along\, you can find the order of service here. \nIf you would like to sing along\, you can find the hymn sheet here. \nYou can find our notices for the week here. \n \n
URL:https://www.portseaparish.co.uk/event/celebrating-christs-presence-13th-sunday-after-trinity-3rd-september-2023-st-marys-church-portsea/
LOCATION:St Mary’s Church\, Fratton Road\, Portsmouth\, PO1 5PA\, United Kingdom
END:VEVENT
END:VCALENDAR