BEGIN:VCALENDAR
VERSION:2.0
PRODID:-//Portsea Parish - ECPv5.0.3.1//NONSGML v1.0//EN
CALSCALE:GREGORIAN
METHOD:PUBLISH
X-WR-CALNAME:Portsea Parish
X-ORIGINAL-URL:https://www.portseaparish.co.uk
X-WR-CALDESC:Events for Portsea Parish
BEGIN:VTIMEZONE
TZID:Europe/London
BEGIN:DAYLIGHT
TZOFFSETFROM:+0000
TZOFFSETTO:+0100
TZNAME:BST
DTSTART:20210328T010000
END:DAYLIGHT
BEGIN:STANDARD
TZOFFSETFROM:+0100
TZOFFSETTO:+0000
TZNAME:GMT
DTSTART:20211031T010000
END:STANDARD
END:VTIMEZONE
BEGIN:VEVENT
DTSTART;TZID=Europe/London:20211010T100000
DTEND;TZID=Europe/London:20211010T110000
DTSTAMP:20260421T085104
CREATED:20211003T112106Z
LAST-MODIFIED:20211007T162833Z
UID:33372-1633860000-1633863600@www.portseaparish.co.uk
SUMMARY:Celebrating Christ's Presence 19th Sunday after Trinity - 10 October 2021 - St Marys Church Portsea
DESCRIPTION:To watch\, you can either go to our Facebook page\, or our YouTube stream. \nTo follow along\, please find the order of service here. \nIf you would like to sing\, please find the hymn sheets here. \nYou can find our notices for the week here. \nIf you would like to attend in person\, please email vicar@portseaparish.co.uk \n
URL:https://www.portseaparish.co.uk/event/celebrating-christs-presence-19th-sunday-after-trinity-10-october-2021-st-marys-church-portsea/
LOCATION:St Mary’s Church\, Fratton Road\, Portsmouth\, PO1 5PA\, United Kingdom
ATTACH;FMTTYPE=image/jpeg:https://storage.googleapis.com/portseaparish.appspot.com/1/2021/06/Thumbnail.jpg
END:VEVENT
END:VCALENDAR