BEGIN:VCALENDAR
VERSION:2.0
PRODID:-//Portsea Parish - ECPv5.0.3.1//NONSGML v1.0//EN
CALSCALE:GREGORIAN
METHOD:PUBLISH
X-WR-CALNAME:Portsea Parish
X-ORIGINAL-URL:https://www.portseaparish.co.uk
X-WR-CALDESC:Events for Portsea Parish
BEGIN:VTIMEZONE
TZID:Europe/London
BEGIN:DAYLIGHT
TZOFFSETFROM:+0000
TZOFFSETTO:+0100
TZNAME:BST
DTSTART:20230326T010000
END:DAYLIGHT
BEGIN:STANDARD
TZOFFSETFROM:+0100
TZOFFSETTO:+0000
TZNAME:GMT
DTSTART:20231029T010000
END:STANDARD
END:VTIMEZONE
BEGIN:VEVENT
DTSTART;TZID=Europe/London:20230723T100000
DTEND;TZID=Europe/London:20230723T110000
DTSTAMP:20260423T094644
CREATED:20230712T085812Z
LAST-MODIFIED:20230720T185840Z
UID:35784-1690106400-1690110000@www.portseaparish.co.uk
SUMMARY:Celebrating Christ's Presence: 7th Sunday after Trinity - 23rd July 2023 - St Mary's Portsea
DESCRIPTION:On Revd Sam’s final Sunday in the parish\, we will gather to express our thanks for her ministry and to pray for her as she moves on.  The service will be followed by a cake and a chance to chat.  If you would like to make a donation towards a farewell gift for Revd Sam\, please do so in a clearly marked envelope\, or if paying by BACS reference: ‘Sam Gift’ \nAfter the cake and chat\, for those who wish to stay\, there will be a picnic lunch and annual rounders match in the churchyard! \nTo watch the service\, you can go to our YouTube stream\, or our Facebook page. \nTo follow along\, you can find the order of service here.\nThe Hymn Sheet is available here.\nWeekly notes from 23rd July 2023 are available here. \n \n
URL:https://www.portseaparish.co.uk/event/celebrating-christs-presence-7th-sunday-after-trinity-23rd-july-2023-st-marys-portsea/
LOCATION:St Mary’s Church\, Fratton Road\, Portsmouth\, PO1 5PA\, United Kingdom
END:VEVENT
END:VCALENDAR