BEGIN:VCALENDAR
VERSION:2.0
PRODID:-//Portsea Parish - ECPv5.0.3.1//NONSGML v1.0//EN
CALSCALE:GREGORIAN
METHOD:PUBLISH
X-WR-CALNAME:Portsea Parish
X-ORIGINAL-URL:https://www.portseaparish.co.uk
X-WR-CALDESC:Events for Portsea Parish
BEGIN:VTIMEZONE
TZID:Europe/London
BEGIN:DAYLIGHT
TZOFFSETFROM:+0000
TZOFFSETTO:+0100
TZNAME:BST
DTSTART:20220327T010000
END:DAYLIGHT
BEGIN:STANDARD
TZOFFSETFROM:+0100
TZOFFSETTO:+0000
TZNAME:GMT
DTSTART:20221030T010000
END:STANDARD
END:VTIMEZONE
BEGIN:VEVENT
DTSTART;TZID=Europe/London:20220731T100000
DTEND;TZID=Europe/London:20220731T110000
DTSTAMP:20260423T122006
CREATED:20220730T101904Z
LAST-MODIFIED:20220730T101904Z
UID:34509-1659261600-1659265200@www.portseaparish.co.uk
SUMMARY:Celebrating Christ's Presence: 7th Sunday after Trinity - 31st July 2022 - St Mary's Church Portsea
DESCRIPTION:To watch\, you can either go to our Facebook page\, or our YouTube stream. \nTo follow along\, please find the order of service here. \nYou can find our notices for the week and hymns here. \n
URL:https://www.portseaparish.co.uk/event/celebrating-christs-presence-7th-sunday-after-trinity-31st-july-2022-st-marys-church-portsea/
LOCATION:St Mary’s Church\, Fratton Road\, Portsmouth\, PO1 5PA\, United Kingdom
ATTACH;FMTTYPE=image/jpeg:https://storage.googleapis.com/portseaparish.appspot.com/1/2022/06/Green-Altar-Thumbnail-scaled.jpg
END:VEVENT
END:VCALENDAR