BEGIN:VCALENDAR
VERSION:2.0
PRODID:-//Portsea Parish - ECPv5.0.3.1//NONSGML v1.0//EN
CALSCALE:GREGORIAN
METHOD:PUBLISH
X-WR-CALNAME:Portsea Parish
X-ORIGINAL-URL:https://www.portseaparish.co.uk
X-WR-CALDESC:Events for Portsea Parish
BEGIN:VTIMEZONE
TZID:Europe/London
BEGIN:DAYLIGHT
TZOFFSETFROM:+0000
TZOFFSETTO:+0100
TZNAME:BST
DTSTART:20230326T010000
END:DAYLIGHT
BEGIN:STANDARD
TZOFFSETFROM:+0100
TZOFFSETTO:+0000
TZNAME:GMT
DTSTART:20231029T010000
END:STANDARD
END:VTIMEZONE
BEGIN:VEVENT
DTSTART;TZID=Europe/London:20230514T100000
DTEND;TZID=Europe/London:20230514T110000
DTSTAMP:20260423T204650
CREATED:20230510T104919Z
LAST-MODIFIED:20230511T202330Z
UID:35593-1684058400-1684062000@www.portseaparish.co.uk
SUMMARY:Celebrating Christ's Presence: Sixth Sunday of Easter - 14th May 2023 - St Mary's Church\, Portsea
DESCRIPTION:To watch along\, you can go to our YouTube stream\, or our Facebook page. \nTo follow along\, you can find the order of service here. \nIf you would like to sing along\, you can find the hymn sheet here. \nYou can find our notices for the week here. \n \n
URL:https://www.portseaparish.co.uk/event/celebrating-christs-presence-sixth-sunday-of-easter-14th-may-2023-st-marys-church-portsea/
LOCATION:St Mary’s Church\, Fratton Road\, Portsmouth\, PO1 5PA\, United Kingdom
END:VEVENT
END:VCALENDAR