BEGIN:VCALENDAR
VERSION:2.0
PRODID:-//Portsea Parish - ECPv5.0.3.1//NONSGML v1.0//EN
CALSCALE:GREGORIAN
METHOD:PUBLISH
X-WR-CALNAME:Portsea Parish
X-ORIGINAL-URL:https://www.portseaparish.co.uk
X-WR-CALDESC:Events for Portsea Parish
BEGIN:VTIMEZONE
TZID:Europe/London
BEGIN:DAYLIGHT
TZOFFSETFROM:+0000
TZOFFSETTO:+0100
TZNAME:BST
DTSTART:20230326T010000
END:DAYLIGHT
BEGIN:STANDARD
TZOFFSETFROM:+0100
TZOFFSETTO:+0000
TZNAME:GMT
DTSTART:20231029T010000
END:STANDARD
END:VTIMEZONE
BEGIN:VEVENT
DTSTART;TZID=Europe/London:20230815T190000
DTEND;TZID=Europe/London:20230815T200000
DTSTAMP:20260423T183824
CREATED:20230809T135538Z
LAST-MODIFIED:20230815T092855Z
UID:35879-1692126000-1692129600@www.portseaparish.co.uk
SUMMARY:Choral Patronal Mass for St Mary's
DESCRIPTION:We will be joined by clergy\, choirs and members of our local cluster of churches (St Luke’s\, the Cathedral\, the Church of the Ascension\, St Saviour’s\, and Holy Spirit\, Southsea) for what should be a wonderful choral mass to celebrate the Feast of the Assumption and our Patronal Festival\, with refreshments after.  Our guest preacher will be the Venerable Luke Irvine-Capel\, the Archdeacon of Chichester. \nYou can watch the stream online on our Facebook page or our YouTube stream. \nTo follow along\, you can find the order of service here. \n
URL:https://www.portseaparish.co.uk/event/choral-patronal-mass-for-st-marys/
LOCATION:St Mary’s Church\, Fratton Road\, Portsmouth\, PO1 5PA\, United Kingdom
END:VEVENT
END:VCALENDAR