BEGIN:VCALENDAR
VERSION:2.0
PRODID:-//Portsea Parish - ECPv5.0.3.1//NONSGML v1.0//EN
CALSCALE:GREGORIAN
METHOD:PUBLISH
X-WR-CALNAME:Portsea Parish
X-ORIGINAL-URL:https://www.portseaparish.co.uk
X-WR-CALDESC:Events for Portsea Parish
BEGIN:VTIMEZONE
TZID:Europe/London
BEGIN:DAYLIGHT
TZOFFSETFROM:+0000
TZOFFSETTO:+0100
TZNAME:BST
DTSTART:20230326T010000
END:DAYLIGHT
BEGIN:STANDARD
TZOFFSETFROM:+0100
TZOFFSETTO:+0000
TZNAME:GMT
DTSTART:20231029T010000
END:STANDARD
END:VTIMEZONE
BEGIN:VEVENT
DTSTART;TZID=Europe/London:20230809T100000
DTEND;TZID=Europe/London:20230809T160000
DTSTAMP:20260423T165818
CREATED:20230805T095051Z
LAST-MODIFIED:20230805T095051Z
UID:35863-1691575200-1691596800@www.portseaparish.co.uk
SUMMARY:Do Something Different Day
DESCRIPTION:A Do Something Different Day for older people\, with crafts\, conversation\, coffee and games\, followed by a lunch and then afternoon tea and a film with popcorn. \nTickets cost £6 to be paid on the day\, but it is important that you book your place in advance by ringing the Portsmouth Deanery Office on 02392 822990\, or emailing officeassistant@portseaparish.co.uk. \n \n
URL:https://www.portseaparish.co.uk/event/do-something-different-day-4/
LOCATION:St Mary’s Church\, Fratton Road\, Portsmouth\, PO1 5PA\, United Kingdom
END:VEVENT
END:VCALENDAR