BEGIN:VCALENDAR
VERSION:2.0
PRODID:-//Portsea Parish - ECPv5.0.3.1//NONSGML v1.0//EN
CALSCALE:GREGORIAN
METHOD:PUBLISH
X-WR-CALNAME:Portsea Parish
X-ORIGINAL-URL:https://www.portseaparish.co.uk
X-WR-CALDESC:Events for Portsea Parish
BEGIN:VTIMEZONE
TZID:Europe/London
BEGIN:DAYLIGHT
TZOFFSETFROM:+0000
TZOFFSETTO:+0100
TZNAME:BST
DTSTART:20230326T010000
END:DAYLIGHT
BEGIN:STANDARD
TZOFFSETFROM:+0100
TZOFFSETTO:+0000
TZNAME:GMT
DTSTART:20231029T010000
END:STANDARD
END:VTIMEZONE
BEGIN:VEVENT
DTSTART;TZID=Europe/London:20230903T120000
DTEND;TZID=Europe/London:20230903T133000
DTSTAMP:20260424T020638
CREATED:20230828T135947Z
LAST-MODIFIED:20230828T135947Z
UID:35921-1693742400-1693747800@www.portseaparish.co.uk
SUMMARY:Parish BBQ Lunch
DESCRIPTION:As we gather after the summer holidays\, this will be a chance for us to catch up with each other and enjoy one another’s company over a BBQ lunch.  Please make sure to buy tickets\, found in the church\, in advance. \nYou are then invited to join the Ministry Team for the Sponsored Bike Ride\, covering 15 places of worship in the city centre in around an hour.  If you would like to join us\, please meet us in the churchyard after the BBQ lunch at 1:30pm and contact Fr. Rajiv (rajiv.sidhu@portseaparish.co.uk) in advance.  Alternatively\, you could sponsor us in support of the Parish and Historic Churches Trust by signing the list at the back of the church. \n \n
URL:https://www.portseaparish.co.uk/event/parish-bbq-lunch/
LOCATION:St Mary’s Church\, Fratton Road\, Portsmouth\, PO1 5PA\, United Kingdom
END:VEVENT
END:VCALENDAR