BEGIN:VCALENDAR
VERSION:2.0
PRODID:-//Portsea Parish - ECPv5.0.3.1//NONSGML v1.0//EN
CALSCALE:GREGORIAN
METHOD:PUBLISH
X-WR-CALNAME:Portsea Parish
X-ORIGINAL-URL:https://www.portseaparish.co.uk
X-WR-CALDESC:Events for Portsea Parish
BEGIN:VTIMEZONE
TZID:Europe/London
BEGIN:DAYLIGHT
TZOFFSETFROM:+0000
TZOFFSETTO:+0100
TZNAME:BST
DTSTART:20180325T010000
END:DAYLIGHT
BEGIN:STANDARD
TZOFFSETFROM:+0100
TZOFFSETTO:+0000
TZNAME:GMT
DTSTART:20181028T010000
END:STANDARD
END:VTIMEZONE
BEGIN:VEVENT
DTSTART;TZID=Europe/London:20180624T100000
DTEND;TZID=Europe/London:20180624T110000
DTSTAMP:20260419T144123
CREATED:20171211T120532Z
LAST-MODIFIED:20180621T093353Z
UID:26580-1529834400-1529838000@www.portseaparish.co.uk
SUMMARY:Parish Mass at St Mary's
DESCRIPTION:		\n							\n						\n				Parish Mass This Sunday			\n			\n					\n	There is a Mass at St Mary’s for the whole Parish this Sunday to say farewell to Wendy-May as she takes up her curacy in Fareham.  There will be no mass at St Faith’s nor at St Wilfrid’s. \nParish Mass  \nAt noon there is The Great Get Together Picnic in Kingston Rec and celebration of the new play area.  It starts with a procession from the Fratton Community Centre.\n
URL:https://www.portseaparish.co.uk/event/parish-mass-at-st-marys/
LOCATION:St Mary’s Church\, Fratton Road\, Portsmouth\, PO1 5PA\, United Kingdom
CATEGORIES:Child Friendly,Liturgical
ATTACH;FMTTYPE=image/jpeg:https://storage.googleapis.com/portseaparish.appspot.com/1/2017/10/bereavement_christmas_2015.jpg
END:VEVENT
END:VCALENDAR