BEGIN:VCALENDAR
VERSION:2.0
PRODID:-//Portsea Parish - ECPv5.0.3.1//NONSGML v1.0//EN
CALSCALE:GREGORIAN
METHOD:PUBLISH
X-WR-CALNAME:Portsea Parish
X-ORIGINAL-URL:https://www.portseaparish.co.uk
X-WR-CALDESC:Events for Portsea Parish
BEGIN:VTIMEZONE
TZID:Europe/London
BEGIN:DAYLIGHT
TZOFFSETFROM:+0000
TZOFFSETTO:+0100
TZNAME:BST
DTSTART:20240331T010000
END:DAYLIGHT
BEGIN:STANDARD
TZOFFSETFROM:+0100
TZOFFSETTO:+0000
TZNAME:GMT
DTSTART:20241027T010000
END:STANDARD
END:VTIMEZONE
BEGIN:VEVENT
DTSTART;TZID=Europe/London:20240726T190000
DTEND;TZID=Europe/London:20240726T210000
DTSTAMP:20260421T065115
CREATED:20240711T112103Z
LAST-MODIFIED:20240711T112103Z
UID:36949-1722020400-1722027600@www.portseaparish.co.uk
SUMMARY:Parish Skittles Night
DESCRIPTION:Join us for another instalment in our annual Skittles Night competitions!  Alongside getting involved in a fun activity (and attempting to beat the clergy)\, this event is always a great chance to have a chat with other members of the parish. \nTickets include a basket meal and cost £10 for adults or £5 for those under 18 – please go to either of our two churches to purchase one\, or contact officeassistant@portseaparish.co.uk or 02392 822 990. \n \n
URL:https://www.portseaparish.co.uk/event/parish-skittles-night-2/
LOCATION:The Royal Maritime Hotel\, 75-80 Queen Street\, Portsmouth\, PO1 3HS\, United Kingdom
END:VEVENT
END:VCALENDAR