BEGIN:VCALENDAR
VERSION:2.0
PRODID:-//Portsea Parish - ECPv5.0.3.1//NONSGML v1.0//EN
CALSCALE:GREGORIAN
METHOD:PUBLISH
X-WR-CALNAME:Portsea Parish
X-ORIGINAL-URL:https://www.portseaparish.co.uk
X-WR-CALDESC:Events for Portsea Parish
BEGIN:VTIMEZONE
TZID:Europe/London
BEGIN:DAYLIGHT
TZOFFSETFROM:+0000
TZOFFSETTO:+0100
TZNAME:BST
DTSTART:20210328T010000
END:DAYLIGHT
BEGIN:STANDARD
TZOFFSETFROM:+0100
TZOFFSETTO:+0000
TZNAME:GMT
DTSTART:20211031T010000
END:STANDARD
END:VTIMEZONE
BEGIN:VEVENT
DTSTART;TZID=Europe/London:20211211T193000
DTEND;TZID=Europe/London:20211211T203000
DTSTAMP:20260421T192311
CREATED:20211112T124145Z
LAST-MODIFIED:20211112T124145Z
UID:33494-1639251000-1639254600@www.portseaparish.co.uk
SUMMARY:Portsmouth Choral Union's Performance of J.S. Bach's Christmas Oratorio
DESCRIPTION:Portsmouth Choral Union will be performing The Christmas Oratorio\, Bach’s six cantatas which takes the audience from the birth of Jesus through to the Epiphany. \nIf you would like to attend\, please book your tickets here. \n
URL:https://www.portseaparish.co.uk/event/portsmouth-choral-unions-performance-of-j-s-bachs-christmas-oratorio/
LOCATION:St Mary’s Church\, Fratton Road\, Portsmouth\, PO1 5PA\, United Kingdom
ATTACH;FMTTYPE=image/jpeg:https://storage.googleapis.com/portseaparish.appspot.com/1/2021/11/Christmas_Oratorio_2021_a6_aw-Background.jpg
ORGANIZER;CN="Portsmouth%20Choral%20Union":MAILTO:pcuticketing@gmail.com
END:VEVENT
END:VCALENDAR