BEGIN:VCALENDAR
VERSION:2.0
PRODID:-//Portsea Parish - ECPv5.0.3.1//NONSGML v1.0//EN
CALSCALE:GREGORIAN
METHOD:PUBLISH
X-WR-CALNAME:Portsea Parish
X-ORIGINAL-URL:https://www.portseaparish.co.uk
X-WR-CALDESC:Events for Portsea Parish
BEGIN:VTIMEZONE
TZID:Europe/London
BEGIN:DAYLIGHT
TZOFFSETFROM:+0000
TZOFFSETTO:+0100
TZNAME:BST
DTSTART:20190331T010000
END:DAYLIGHT
BEGIN:STANDARD
TZOFFSETFROM:+0100
TZOFFSETTO:+0000
TZNAME:GMT
DTSTART:20191027T010000
END:STANDARD
END:VTIMEZONE
BEGIN:VEVENT
DTSTART;TZID=Europe/London:20190419T130000
DTEND;TZID=Europe/London:20190419T140000
DTSTAMP:20260424T084400
CREATED:20180217T172102Z
LAST-MODIFIED:20190325T170118Z
UID:27194-1555678800-1555682400@www.portseaparish.co.uk
SUMMARY:Reflections on the Cross at St Mary's
DESCRIPTION:A chance to be still and to reflect on the significance of the cross. \n\n
URL:https://www.portseaparish.co.uk/event/reflections-on-the-cross-at-st-marys/
LOCATION:St Mary’s Church\, Fratton Road\, Portsmouth\, PO1 5PA\, United Kingdom
CATEGORIES:Lent,Meditation,Prayer
ATTACH;FMTTYPE=image/jpeg:https://storage.googleapis.com/portseaparish.appspot.com/1/2018/02/good_friday_2016c.jpg
END:VEVENT
END:VCALENDAR