BEGIN:VCALENDAR
VERSION:2.0
PRODID:-//Portsea Parish - ECPv5.0.3.1//NONSGML v1.0//EN
CALSCALE:GREGORIAN
METHOD:PUBLISH
X-WR-CALNAME:Portsea Parish
X-ORIGINAL-URL:https://www.portseaparish.co.uk
X-WR-CALDESC:Events for Portsea Parish
BEGIN:VTIMEZONE
TZID:Europe/London
BEGIN:DAYLIGHT
TZOFFSETFROM:+0000
TZOFFSETTO:+0100
TZNAME:BST
DTSTART:20220327T010000
END:DAYLIGHT
BEGIN:STANDARD
TZOFFSETFROM:+0100
TZOFFSETTO:+0000
TZNAME:GMT
DTSTART:20221030T010000
END:STANDARD
END:VTIMEZONE
BEGIN:VEVENT
DTSTART;TZID=Europe/London:20221106T150000
DTEND;TZID=Europe/London:20221106T160000
DTSTAMP:20260424T132217
CREATED:20220926T165934Z
LAST-MODIFIED:20220926T165934Z
UID:34748-1667746800-1667750400@www.portseaparish.co.uk
SUMMARY:Service for those Bereaved
DESCRIPTION:A service at which we remember and pray for those we have loved and who have died over the past year. \n
URL:https://www.portseaparish.co.uk/event/service-for-those-bereaved/
LOCATION:St Mary’s Church\, Fratton Road\, Portsmouth\, PO1 5PA\, United Kingdom
ATTACH;FMTTYPE=image/jpeg:https://storage.googleapis.com/portseaparish.appspot.com/1/2022/09/Service-for-those-Bereaved-scaled.jpg
END:VEVENT
END:VCALENDAR