BEGIN:VCALENDAR
VERSION:2.0
PRODID:-//Portsea Parish - ECPv5.0.3.1//NONSGML v1.0//EN
CALSCALE:GREGORIAN
METHOD:PUBLISH
X-WR-CALNAME:Portsea Parish
X-ORIGINAL-URL:https://www.portseaparish.co.uk
X-WR-CALDESC:Events for Portsea Parish
BEGIN:VTIMEZONE
TZID:Europe/London
BEGIN:DAYLIGHT
TZOFFSETFROM:+0000
TZOFFSETTO:+0100
TZNAME:BST
DTSTART:20230326T010000
END:DAYLIGHT
BEGIN:STANDARD
TZOFFSETFROM:+0100
TZOFFSETTO:+0000
TZNAME:GMT
DTSTART:20231029T010000
END:STANDARD
END:VTIMEZONE
BEGIN:VEVENT
DTSTART;TZID=Europe/London:20230925T170000
DTEND;TZID=Europe/London:20230925T180000
DTSTAMP:20260424T105202
CREATED:20230920T122043Z
LAST-MODIFIED:20230921T080822Z
UID:35972-1695661200-1695664800@www.portseaparish.co.uk
SUMMARY:St Mary's Choir Open Evening
DESCRIPTION:If you know of any children (particularly aged 7-11\, but older children are welcome) who enjoy singing\, may be interested in learning about the church choir and what we do\, and would like the experience of singing in the magnificent space of St Mary’s\, then please do bring them to our Choir Open Evening to see what it’s about.  We look forward to welcoming you! \nIf you cannot make this date but are interested\, or are an adult looking to join\, please contact our Director of Music\, Brian Moles\, for more information on how you can get involved: DoM@portseaparish.co.uk \nYou can also find out more about St Mary’s choir in this video. \n \n
URL:https://www.portseaparish.co.uk/event/st-marys-choir-open-evening/
LOCATION:St Mary’s Church\, Fratton Road\, Portsmouth\, PO1 5PA\, United Kingdom
END:VEVENT
END:VCALENDAR