BEGIN:VCALENDAR
VERSION:2.0
PRODID:-//Portsea Parish - ECPv5.0.3.1//NONSGML v1.0//EN
CALSCALE:GREGORIAN
METHOD:PUBLISH
X-WR-CALNAME:Portsea Parish
X-ORIGINAL-URL:https://www.portseaparish.co.uk
X-WR-CALDESC:Events for Portsea Parish
BEGIN:VTIMEZONE
TZID:Europe/London
BEGIN:DAYLIGHT
TZOFFSETFROM:+0000
TZOFFSETTO:+0100
TZNAME:BST
DTSTART:20240331T010000
END:DAYLIGHT
BEGIN:STANDARD
TZOFFSETFROM:+0100
TZOFFSETTO:+0000
TZNAME:GMT
DTSTART:20241027T010000
END:STANDARD
END:VTIMEZONE
BEGIN:VEVENT
DTSTART;TZID=Europe/London:20240506T100000
DTEND;TZID=Europe/London:20240506T160000
DTSTAMP:20260420T103933
CREATED:20240417T161058Z
LAST-MODIFIED:20240418T094920Z
UID:36707-1714989600-1715011200@www.portseaparish.co.uk
SUMMARY:St Mary's May Fayre
DESCRIPTION:Join us again for our annual May Fayre!  As always this is a great opportunity for our local Portsmouth community to gather in our churchyard\, with local stalls\, the beer tent\, and a variety of performances in our arena\, including traditional Morris Dancing \n \n
URL:https://www.portseaparish.co.uk/event/st-marys-may-fayre-2/
LOCATION:St Mary’s Church\, Fratton Road\, Portsmouth\, PO1 5PA\, United Kingdom
END:VEVENT
END:VCALENDAR