BEGIN:VCALENDAR
VERSION:2.0
PRODID:-//Portsea Parish - ECPv5.0.3.1//NONSGML v1.0//EN
CALSCALE:GREGORIAN
METHOD:PUBLISH
X-WR-CALNAME:Portsea Parish
X-ORIGINAL-URL:https://www.portseaparish.co.uk
X-WR-CALDESC:Events for Portsea Parish
BEGIN:VTIMEZONE
TZID:Europe/London
BEGIN:DAYLIGHT
TZOFFSETFROM:+0000
TZOFFSETTO:+0100
TZNAME:BST
DTSTART:20220327T010000
END:DAYLIGHT
BEGIN:STANDARD
TZOFFSETFROM:+0100
TZOFFSETTO:+0000
TZNAME:GMT
DTSTART:20221030T010000
END:STANDARD
END:VTIMEZONE
BEGIN:VEVENT
DTSTART;TZID=Europe/London:20220704T190000
DTEND;TZID=Europe/London:20220704T200000
DTSTAMP:20260420T091350
CREATED:20220630T082058Z
LAST-MODIFIED:20220630T082058Z
UID:34384-1656961200-1656964800@www.portseaparish.co.uk
SUMMARY:Fr Rajiv's First Eucharist
DESCRIPTION:This will be a very special service as Fr Rajiv presides over the Eucharist for the first time.  You are also invited to support him as he is ordained at the Cathedral by Bishop Jonathan on Saturday at 4pm. \nIf you would like to make a donation to an ordination gift for him\, please do so in a clearly marked envelope\, or by BACS with reference ‘Rajiv’. \n
URL:https://www.portseaparish.co.uk/event/fr-rajivs-first-eucharist/
LOCATION:St Mary’s Church\, Fratton Road\, Portsmouth\, PO1 5PA\, United Kingdom
ATTACH;FMTTYPE=image/jpeg:https://storage.googleapis.com/portseaparish.appspot.com/1/2022/06/Fr-Rajiv.jpg
END:VEVENT
END:VCALENDAR