BEGIN:VCALENDAR
VERSION:2.0
PRODID:-//Portsea Parish - ECPv5.0.3.1//NONSGML v1.0//EN
CALSCALE:GREGORIAN
METHOD:PUBLISH
X-WR-CALNAME:Portsea Parish
X-ORIGINAL-URL:https://www.portseaparish.co.uk
X-WR-CALDESC:Events for Portsea Parish
BEGIN:VTIMEZONE
TZID:Europe/London
BEGIN:DAYLIGHT
TZOFFSETFROM:+0000
TZOFFSETTO:+0100
TZNAME:BST
DTSTART:20220327T010000
END:DAYLIGHT
BEGIN:STANDARD
TZOFFSETFROM:+0100
TZOFFSETTO:+0000
TZNAME:GMT
DTSTART:20221030T010000
END:STANDARD
END:VTIMEZONE
BEGIN:VEVENT
DTSTART;TZID=Europe/London:20220717T100000
DTEND;TZID=Europe/London:20220717T110000
DTSTAMP:20260422T060206
CREATED:20220710T125158Z
LAST-MODIFIED:20220714T092147Z
UID:34452-1658052000-1658055600@www.portseaparish.co.uk
SUMMARY:Celebrating Christ's Presence: 5th Sunday after Trinity - 17th July 2022 - St Mary's Church Portsea
DESCRIPTION:To watch\, you can either go to our Facebook page\, or our YouTube stream. \nTo follow along\, please find the order of service here. \nIf you would like to sing along\, you can find the hymn sheet here. \nYou can find our notices for the week here. \n
URL:https://www.portseaparish.co.uk/event/celebrating-christs-presence-5th-sunday-after-trinity-17th-july-2022-st-marys-church-portsea/
LOCATION:St Mary’s Church\, Fratton Road\, Portsmouth\, PO1 5PA\, United Kingdom
ATTACH;FMTTYPE=image/jpeg:https://storage.googleapis.com/portseaparish.appspot.com/1/2022/06/Green-Altar-Thumbnail-scaled.jpg
END:VEVENT
BEGIN:VEVENT
DTSTART;TZID=Europe/London:20220717T133000
DTEND;TZID=Europe/London:20220717T170000
DTSTAMP:20260422T060206
CREATED:20220630T105243Z
LAST-MODIFIED:20220717T134536Z
UID:34402-1658064600-1658077200@www.portseaparish.co.uk
SUMMARY:Come and Sing Festival Choral Evensong
DESCRIPTION:‘Come and Sing’ with us at our Festival Choral Evensong\, celebrating the completed restoration of our 1889 pipe organ. \nIf you wish to sing with us\, please book your FREE ticket on The Organ Project’s website. Arrive at St Mary’s Church at 1:30pm\, rehearsals start at 2pm. Robes and any accompanying academic dress may be worn for the service. \nThe service is open to the public\, please join us at 4pm. \nYou can follow online on our YouTube stream or our Facebook page. \n
URL:https://www.portseaparish.co.uk/event/come_and_sing_evensong/
LOCATION:St Mary’s Church\, Fratton Road\, Portsmouth\, PO1 5PA\, United Kingdom
ATTACH;FMTTYPE=image/jpeg:https://storage.googleapis.com/portseaparish.appspot.com/1/2022/06/Choral-Evensong.jpg
END:VEVENT
END:VCALENDAR