BEGIN:VCALENDAR
VERSION:2.0
PRODID:-//Portsea Parish - ECPv5.0.3.1//NONSGML v1.0//EN
CALSCALE:GREGORIAN
METHOD:PUBLISH
X-WR-CALNAME:Portsea Parish
X-ORIGINAL-URL:https://www.portseaparish.co.uk
X-WR-CALDESC:Events for Portsea Parish
BEGIN:VTIMEZONE
TZID:Europe/London
BEGIN:DAYLIGHT
TZOFFSETFROM:+0000
TZOFFSETTO:+0100
TZNAME:BST
DTSTART:20220327T010000
END:DAYLIGHT
BEGIN:STANDARD
TZOFFSETFROM:+0100
TZOFFSETTO:+0000
TZNAME:GMT
DTSTART:20221030T010000
END:STANDARD
END:VTIMEZONE
BEGIN:VEVENT
DTSTART;TZID=Europe/London:20220805T190000
DTEND;TZID=Europe/London:20220805T200000
DTSTAMP:20260425T145859
CREATED:20220730T124530Z
LAST-MODIFIED:20220730T124530Z
UID:34511-1659726000-1659729600@www.portseaparish.co.uk
SUMMARY:Organ Recital by Adrian Bawtree
DESCRIPTION:The first recital of The Organ Project’s 2022 series will be given by Adrian Bawtree\, Director of Music and organist elect of Rochester Cathedral. \nFREE entry\, no booking required. Refreshments of juice and wine will be served.  Retiring collection in aid of the St Mary’s Church Music Foundation. Find out more at The Organ Project’s website. \n
URL:https://www.portseaparish.co.uk/event/organ-recital-by-adrian-bawtree/
LOCATION:St Mary’s Church\, Fratton Road\, Portsmouth\, PO1 5PA\, United Kingdom
ATTACH;FMTTYPE=image/jpeg:https://storage.googleapis.com/portseaparish.appspot.com/1/2022/07/Adrian-Bawtree-Banner.jpg
END:VEVENT
END:VCALENDAR