BEGIN:VCALENDAR
VERSION:2.0
PRODID:-//Portsea Parish - ECPv5.0.3.1//NONSGML v1.0//EN
CALSCALE:GREGORIAN
METHOD:PUBLISH
X-WR-CALNAME:Portsea Parish
X-ORIGINAL-URL:https://www.portseaparish.co.uk
X-WR-CALDESC:Events for Portsea Parish
BEGIN:VTIMEZONE
TZID:Europe/London
BEGIN:DAYLIGHT
TZOFFSETFROM:+0000
TZOFFSETTO:+0100
TZNAME:BST
DTSTART:20240331T010000
END:DAYLIGHT
BEGIN:STANDARD
TZOFFSETFROM:+0100
TZOFFSETTO:+0000
TZNAME:GMT
DTSTART:20241027T010000
END:STANDARD
END:VTIMEZONE
BEGIN:VEVENT
DTSTART;TZID=Europe/London:20240915T100000
DTEND;TZID=Europe/London:20240915T110000
DTSTAMP:20260426T004826
CREATED:20240914T095906Z
LAST-MODIFIED:20240914T095906Z
UID:37147-1726394400-1726398000@www.portseaparish.co.uk
SUMMARY:Celebrating Christs Presence: 16th Sunday after Trinity - 15th September 2024 - St Mary's Portsea
DESCRIPTION:To watch our livestream\, you can go to our Facebook page or our YouTube channel. \nIf you would like to sing along\, you can find the hymn sheet here. \nYou can find our notices for the week here. \nTo follow along\, you can find the order of service here. \n \n
URL:https://www.portseaparish.co.uk/event/celebrating-christs-presence-16th-sunday-after-trinity-15th-september-2024-st-marys-portsea/
LOCATION:St Mary’s Church\, Fratton Road\, Portsmouth\, PO1 5PA\, United Kingdom
END:VEVENT
BEGIN:VEVENT
DTSTART;TZID=Europe/London:20240915T123000
DTEND;TZID=Europe/London:20240915T173000
DTSTAMP:20260426T004826
CREATED:20240904T153702Z
LAST-MODIFIED:20240904T153702Z
UID:37109-1726403400-1726421400@www.portseaparish.co.uk
SUMMARY:Fratton Family Festival
DESCRIPTION:Join Fratton Together in celebrating the local Fratton community\, with a collection of stalls\, refreshments\, music\, children’s rides\, activities\, a picnic area\, and more – all in St Mary’s Churchyard!  This is a great event for families\, with no entry free (although donations are allowed) and no alcohol.  For more information\, please email events@frattontogether.org \nActs appearing on the music stage include: Cadency\, Mary Red\, Re-Veal\, Young Pine\, Fleeting Hearts and Not So Clever. \n \n
URL:https://www.portseaparish.co.uk/event/fratton-family-festival-2/
LOCATION:St Mary’s Churchyard\, Fratton Road\, Portsmouth\, PO1 5PA\, United Kingdom
ORGANIZER;CN="Fratton%20Together":MAILTO:events@frattontogether.org
END:VEVENT
END:VCALENDAR