BEGIN:VCALENDAR
VERSION:2.0
PRODID:-//Portsea Parish - ECPv5.0.3.1//NONSGML v1.0//EN
CALSCALE:GREGORIAN
METHOD:PUBLISH
X-WR-CALNAME:Portsea Parish
X-ORIGINAL-URL:https://www.portseaparish.co.uk
X-WR-CALDESC:Events for Portsea Parish
BEGIN:VTIMEZONE
TZID:Europe/London
BEGIN:DAYLIGHT
TZOFFSETFROM:+0000
TZOFFSETTO:+0100
TZNAME:BST
DTSTART:20240331T010000
END:DAYLIGHT
BEGIN:STANDARD
TZOFFSETFROM:+0100
TZOFFSETTO:+0000
TZNAME:GMT
DTSTART:20241027T010000
END:STANDARD
END:VTIMEZONE
BEGIN:VEVENT
DTSTART;TZID=Europe/London:20240928T100000
DTEND;TZID=Europe/London:20240928T120000
DTSTAMP:20260425T023024
CREATED:20240905T101425Z
LAST-MODIFIED:20240905T101425Z
UID:37120-1727517600-1727524800@www.portseaparish.co.uk
SUMMARY:Messy Harvest
DESCRIPTION:Join us as we celebrate Harvest with a series of FREE fun activities designed for young families that reflect on the world God has created\, its beauty\, and the food that we enjoy.  We will also be considering how we can help care for the world and fairly share its gifts with others.  There is no need to book\, just turn up! \n \n
URL:https://www.portseaparish.co.uk/event/messy-harvest-3/
LOCATION:St Mary’s Church\, Fratton Road\, Portsmouth\, PO1 5PA\, United Kingdom
END:VEVENT
END:VCALENDAR