BEGIN:VCALENDAR
VERSION:2.0
PRODID:-//Portsea Parish - ECPv5.0.3.1//NONSGML v1.0//EN
CALSCALE:GREGORIAN
METHOD:PUBLISH
X-WR-CALNAME:Portsea Parish
X-ORIGINAL-URL:https://www.portseaparish.co.uk
X-WR-CALDESC:Events for Portsea Parish
BEGIN:VTIMEZONE
TZID:Europe/London
BEGIN:DAYLIGHT
TZOFFSETFROM:+0000
TZOFFSETTO:+0100
TZNAME:BST
DTSTART:20240331T010000
END:DAYLIGHT
BEGIN:STANDARD
TZOFFSETFROM:+0100
TZOFFSETTO:+0000
TZNAME:GMT
DTSTART:20241027T010000
END:STANDARD
END:VTIMEZONE
BEGIN:VEVENT
DTSTART;TZID=Europe/London:20240929T100000
DTEND;TZID=Europe/London:20240929T130000
DTSTAMP:20260425T004933
CREATED:20240922T072908Z
LAST-MODIFIED:20240926T134012Z
UID:37175-1727604000-1727614800@www.portseaparish.co.uk
SUMMARY:Harvest Thanksgiving & BBQ
DESCRIPTION:Join us next Sunday as we celebrate God’s gift of the world and its fruits\, as well as reflect on how we can be grateful for these blessings and share them with others.  We encourage you to bring donations of non-perishable food which can be passed out to those in need in our local community\, through the Roberts Centre. \nFollowing the service\, we will be holding a parish BBQ as we take part in Portsmouth’s Citywide Harvest celebrations.  Please book in advance\, either by speaking to a member of staff in the church or calling 02392 822 990 – tickets for adults are £4\, while those for under 16s are £2. \nIf you would like to watch the service online\, you can go to our YouTube channel or our Facebook page. \nTo follow along\, you can find the order of service here. \n \n
URL:https://www.portseaparish.co.uk/event/harvest-thanksgiving-bbq/
LOCATION:St Mary’s Church\, Fratton Road\, Portsmouth\, PO1 5PA\, United Kingdom
END:VEVENT
END:VCALENDAR