BEGIN:VCALENDAR
VERSION:2.0
PRODID:-//Portsea Parish - ECPv5.0.3.1//NONSGML v1.0//EN
CALSCALE:GREGORIAN
METHOD:PUBLISH
X-WR-CALNAME:Portsea Parish
X-ORIGINAL-URL:https://www.portseaparish.co.uk
X-WR-CALDESC:Events for Portsea Parish
BEGIN:VTIMEZONE
TZID:Europe/London
BEGIN:DAYLIGHT
TZOFFSETFROM:+0000
TZOFFSETTO:+0100
TZNAME:BST
DTSTART:20240331T010000
END:DAYLIGHT
BEGIN:STANDARD
TZOFFSETFROM:+0100
TZOFFSETTO:+0000
TZNAME:GMT
DTSTART:20241027T010000
END:STANDARD
END:VTIMEZONE
BEGIN:VEVENT
DTSTART;TZID=Europe/London:20241006T100000
DTEND;TZID=Europe/London:20241006T110000
DTSTAMP:20260424T115821
CREATED:20241005T144355Z
LAST-MODIFIED:20241005T144355Z
UID:37206-1728208800-1728212400@www.portseaparish.co.uk
SUMMARY:Celebrating Christ's Presence: 19th Sunday after Trinity - 6th October 2024 - St Mary's Portsea
DESCRIPTION:To watch our livestream\, you can go to our Facebook page or our YouTube channel. \nTo follow along\, you can find the order of service here. \nIf you would like to sing along\, you can find the hymn sheet here. \nYou can find our notices for the week here. \n \n
URL:https://www.portseaparish.co.uk/event/celebrating-christs-presence-19th-sunday-after-trinity-6th-october-2024-st-marys-portsea/
LOCATION:St Mary’s Church\, Fratton Road\, Portsmouth\, PO1 5PA\, United Kingdom
END:VEVENT
BEGIN:VEVENT
DTSTART;TZID=Europe/London:20241006T180000
DTEND;TZID=Europe/London:20241006T190000
DTSTAMP:20260424T115821
CREATED:20241005T150537Z
LAST-MODIFIED:20241005T150537Z
UID:37214-1728237600-1728241200@www.portseaparish.co.uk
SUMMARY:St Faith's Patronal Mass
DESCRIPTION:A celebration of the life of the Church of St Faith’s and the community it serves\, with guest preacher Revd Julie Jackson (assistant priest of St Luke’s Southsea\, and Messy Church Co-Ordinator & Find My Voice Co-lead for the Parish). \n \n
URL:https://www.portseaparish.co.uk/event/st-faiths-patronal-mass-2/
LOCATION:St Faith’s Church\, Craswell Street\, Portsmouth\, Hampshire\, PO1 1HT\, United Kingdom
END:VEVENT
END:VCALENDAR