BEGIN:VCALENDAR
VERSION:2.0
PRODID:-//Portsea Parish - ECPv5.0.3.1//NONSGML v1.0//EN
CALSCALE:GREGORIAN
METHOD:PUBLISH
X-WR-CALNAME:Portsea Parish
X-ORIGINAL-URL:https://www.portseaparish.co.uk
X-WR-CALDESC:Events for Portsea Parish
BEGIN:VTIMEZONE
TZID:Europe/London
BEGIN:DAYLIGHT
TZOFFSETFROM:+0000
TZOFFSETTO:+0100
TZNAME:BST
DTSTART:20240331T010000
END:DAYLIGHT
BEGIN:STANDARD
TZOFFSETFROM:+0100
TZOFFSETTO:+0000
TZNAME:GMT
DTSTART:20241027T010000
END:STANDARD
END:VTIMEZONE
BEGIN:VEVENT
DTSTART;TZID=Europe/London:20241214T193000
DTEND;TZID=Europe/London:20241214T220000
DTSTAMP:20260424T174110
CREATED:20241214T091143Z
LAST-MODIFIED:20241214T091143Z
UID:37382-1734204600-1734213600@www.portseaparish.co.uk
SUMMARY:The PCU's Carols and Christmas Music
DESCRIPTION:Join the Portsmouth Choral Union (PCU) for their family-friendly celebration of Christmas.  Interspersed with audience carols\, join the PCU\, Castle Primary School Choir\, and St Mary’s Church’s organ in performances of traditional carols and festive music.  Pieces to be performed include ‘Carol of the Bells’\, ‘The Light Will Lead Me’\, and two carols written by current choir members. \nTickets cost £18 for adults or £2.50 for children and students\, and can be bought in advance on the PCU’s website\, or on the door by card payment only. \n \n
URL:https://www.portseaparish.co.uk/event/the-pcus-carols-and-christmas-music/
LOCATION:St Mary’s Church\, Fratton Road\, Portsmouth\, PO1 5PA\, United Kingdom
ORGANIZER;CN="Portsmouth%20Choral%20Union":MAILTO:pcuticketing@gmail.com
END:VEVENT
END:VCALENDAR