BEGIN:VCALENDAR
VERSION:2.0
PRODID:-//Portsea Parish - ECPv5.0.3.1//NONSGML v1.0//EN
CALSCALE:GREGORIAN
METHOD:PUBLISH
X-WR-CALNAME:Portsea Parish
X-ORIGINAL-URL:https://www.portseaparish.co.uk
X-WR-CALDESC:Events for Portsea Parish
BEGIN:VTIMEZONE
TZID:Europe/London
BEGIN:DAYLIGHT
TZOFFSETFROM:+0000
TZOFFSETTO:+0100
TZNAME:BST
DTSTART:20240331T010000
END:DAYLIGHT
BEGIN:STANDARD
TZOFFSETFROM:+0100
TZOFFSETTO:+0000
TZNAME:GMT
DTSTART:20241027T010000
END:STANDARD
END:VTIMEZONE
BEGIN:VEVENT
DTSTART;TZID=Europe/London:20241217T180000
DTEND;TZID=Europe/London:20241217T190000
DTSTAMP:20260424T123255
CREATED:20241214T092512Z
LAST-MODIFIED:20241214T092512Z
UID:37385-1734458400-1734462000@www.portseaparish.co.uk
SUMMARY:Carol Singing
DESCRIPTION:You are invited to join us in traditional carol singing around some local streets.  Meet us outside the church at 6pm\, and make sure to wrap up warm! \n \n
URL:https://www.portseaparish.co.uk/event/carol-singing/
LOCATION:St Mary’s Church\, Fratton Road\, Portsmouth\, PO1 5PA\, United Kingdom
END:VEVENT
END:VCALENDAR