BEGIN:VCALENDAR
VERSION:2.0
PRODID:-//Portsea Parish - ECPv5.0.3.1//NONSGML v1.0//EN
CALSCALE:GREGORIAN
METHOD:PUBLISH
X-WR-CALNAME:Portsea Parish
X-ORIGINAL-URL:https://www.portseaparish.co.uk
X-WR-CALDESC:Events for Portsea Parish
BEGIN:VTIMEZONE
TZID:Europe/London
BEGIN:DAYLIGHT
TZOFFSETFROM:+0000
TZOFFSETTO:+0100
TZNAME:BST
DTSTART:20240331T010000
END:DAYLIGHT
BEGIN:STANDARD
TZOFFSETFROM:+0100
TZOFFSETTO:+0000
TZNAME:GMT
DTSTART:20241027T010000
END:STANDARD
END:VTIMEZONE
BEGIN:VEVENT
DTSTART;TZID=Europe/London:20241220T120000
DTEND;TZID=Europe/London:20241220T130000
DTSTAMP:20260424T071834
CREATED:20241214T093608Z
LAST-MODIFIED:20241214T093608Z
UID:37388-1734696000-1734699600@www.portseaparish.co.uk
SUMMARY:Churches Homeless Action Carols
DESCRIPTION:A celebration of Christmas and the distribution of vouchers collected via local churches and groups to agencies who will be supporting those in need over the Christmas season. A chance for us to share a ‘gift’ with others. \n \n
URL:https://www.portseaparish.co.uk/event/churches-homeless-action-carols-4/
LOCATION:St Mary’s Church\, Fratton Road\, Portsmouth\, PO1 5PA\, United Kingdom
END:VEVENT
END:VCALENDAR