BEGIN:VCALENDAR
VERSION:2.0
PRODID:-//Portsea Parish - ECPv5.0.3.1//NONSGML v1.0//EN
CALSCALE:GREGORIAN
METHOD:PUBLISH
X-WR-CALNAME:Portsea Parish
X-ORIGINAL-URL:https://www.portseaparish.co.uk
X-WR-CALDESC:Events for Portsea Parish
BEGIN:VTIMEZONE
TZID:Europe/London
BEGIN:DAYLIGHT
TZOFFSETFROM:+0000
TZOFFSETTO:+0100
TZNAME:BST
DTSTART:20240331T010000
END:DAYLIGHT
BEGIN:STANDARD
TZOFFSETFROM:+0100
TZOFFSETTO:+0000
TZNAME:GMT
DTSTART:20241027T010000
END:STANDARD
END:VTIMEZONE
BEGIN:VEVENT
DTSTART;TZID=Europe/London:20241224T170000
DTEND;TZID=Europe/London:20241224T180000
DTSTAMP:20260424T000957
CREATED:20241214T095331Z
LAST-MODIFIED:20241214T095331Z
UID:37394-1735059600-1735063200@www.portseaparish.co.uk
SUMMARY:St Mary's Nativity Service
DESCRIPTION:The Christmas story is told by our local children and young people\, as we celebrate the sharing of the greatest gift. \n \n
URL:https://www.portseaparish.co.uk/event/st-marys-nativity-service-2/
LOCATION:St Mary’s Church\, Fratton Road\, Portsmouth\, PO1 5PA\, United Kingdom
END:VEVENT
BEGIN:VEVENT
DTSTART;TZID=Europe/London:20241224T233000
DTEND;TZID=Europe/London:20241225T003000
DTSTAMP:20260424T000957
CREATED:20241214T100154Z
LAST-MODIFIED:20241224T151831Z
UID:37397-1735083000-1735086600@www.portseaparish.co.uk
SUMMARY:St Mary's Midnight Mass
DESCRIPTION:Join us\, with St Mary’s Choir and a team of talented instrumentalists\, as we give a joyful greeting to the Christ child. \nYou can find a livestream of the service on our YouTube channel or our Facebook page. \nTo follow along\, you can find the order of service here. \n \n
URL:https://www.portseaparish.co.uk/event/st-marys-midnight-mass/
LOCATION:St Mary’s Church\, Fratton Road\, Portsmouth\, PO1 5PA\, United Kingdom
END:VEVENT
END:VCALENDAR