BEGIN:VCALENDAR
VERSION:2.0
PRODID:-//Portsea Parish - ECPv5.0.3.1//NONSGML v1.0//EN
CALSCALE:GREGORIAN
METHOD:PUBLISH
X-WR-CALNAME:Portsea Parish
X-ORIGINAL-URL:https://www.portseaparish.co.uk
X-WR-CALDESC:Events for Portsea Parish
BEGIN:VTIMEZONE
TZID:Europe/London
BEGIN:DAYLIGHT
TZOFFSETFROM:+0000
TZOFFSETTO:+0100
TZNAME:BST
DTSTART:20250330T010000
END:DAYLIGHT
BEGIN:STANDARD
TZOFFSETFROM:+0100
TZOFFSETTO:+0000
TZNAME:GMT
DTSTART:20251026T010000
END:STANDARD
END:VTIMEZONE
BEGIN:VEVENT
DTSTART;TZID=Europe/London:20250111T094500
DTEND;TZID=Europe/London:20250111T120000
DTSTAMP:20260421T015421
CREATED:20241228T094110Z
LAST-MODIFIED:20241228T094110Z
UID:37444-1736588700-1736596800@www.portseaparish.co.uk
SUMMARY:Messy Epiphany
DESCRIPTION:Join us for another session of Messy Church\, our free\, family-friendly sessions for young people to explore the church.  This time we’ll be exploring Epiphany\, the time when the three kings visited Jesus. \nThere will be a variety of craft and fun activities to help us\, including lolly stick stars & kings\, crowns\, and an obstacle course (because the kings’ journey to Jesus was not straightforward!). \nRegistration is at 9:45am\, before the activities start at 10am\, and finish with hearing of the epiphany story\, singing songs\, praying\, and eating a meal together at 11:15am\, to finish at 12pm. There is no need to book\, please just turn up. We’d love to see you! \n \n
URL:https://www.portseaparish.co.uk/event/messy-epiphany/
LOCATION:St Mary’s Church\, Fratton Road\, Portsmouth\, PO1 5PA\, United Kingdom
END:VEVENT
END:VCALENDAR