BEGIN:VCALENDAR
VERSION:2.0
PRODID:-//Portsea Parish - ECPv5.0.3.1//NONSGML v1.0//EN
CALSCALE:GREGORIAN
METHOD:PUBLISH
X-WR-CALNAME:Portsea Parish
X-ORIGINAL-URL:https://www.portseaparish.co.uk
X-WR-CALDESC:Events for Portsea Parish
BEGIN:VTIMEZONE
TZID:Europe/London
BEGIN:DAYLIGHT
TZOFFSETFROM:+0000
TZOFFSETTO:+0100
TZNAME:BST
DTSTART:20250330T010000
END:DAYLIGHT
BEGIN:STANDARD
TZOFFSETFROM:+0100
TZOFFSETTO:+0000
TZNAME:GMT
DTSTART:20251026T010000
END:STANDARD
END:VTIMEZONE
BEGIN:VEVENT
DTSTART;TZID=Europe/London:20250112T100000
DTEND;TZID=Europe/London:20250112T110000
DTSTAMP:20260421T015427
CREATED:20250112T091935Z
LAST-MODIFIED:20250112T091935Z
UID:37463-1736676000-1736679600@www.portseaparish.co.uk
SUMMARY:Celebrating Christs Presence: Feast of the Baptism of the Lord - 12th January 2025 - St Marys Church
DESCRIPTION:To watch our livestream\, you can go to our Facebook page or our YouTube channel. \nTo follow along\, you can find the order of service here. \nYou can find our notices for the week here. \n \n
URL:https://www.portseaparish.co.uk/event/celebrating-christs-presence-feast-of-the-baptism-of-the-lord-12th-january-2025-st-marys-church/
LOCATION:St Mary’s Church\, Fratton Road\, Portsmouth\, PO1 5PA\, United Kingdom
END:VEVENT
END:VCALENDAR