BEGIN:VCALENDAR
VERSION:2.0
PRODID:-//Portsea Parish - ECPv5.0.3.1//NONSGML v1.0//EN
CALSCALE:GREGORIAN
METHOD:PUBLISH
X-WR-CALNAME:Portsea Parish
X-ORIGINAL-URL:https://www.portseaparish.co.uk
X-WR-CALDESC:Events for Portsea Parish
BEGIN:VTIMEZONE
TZID:Europe/London
BEGIN:DAYLIGHT
TZOFFSETFROM:+0000
TZOFFSETTO:+0100
TZNAME:BST
DTSTART:20250330T010000
END:DAYLIGHT
BEGIN:STANDARD
TZOFFSETFROM:+0100
TZOFFSETTO:+0000
TZNAME:GMT
DTSTART:20251026T010000
END:STANDARD
END:VTIMEZONE
BEGIN:VEVENT
DTSTART;TZID=Europe/London:20250329T193000
DTEND;TZID=Europe/London:20250329T210000
DTSTAMP:20260421T015504
CREATED:20250316T122024Z
LAST-MODIFIED:20250316T122024Z
UID:37613-1743276600-1743282000@www.portseaparish.co.uk
SUMMARY:Portsmouth Choral Union: Passion Music and Feel the Spirit
DESCRIPTION:Join the Portsmouth Choral Union as they perform Will Todd’s ‘Passion Music’\, a fusion of jazz and choral music which journeys through the Passion story\, and John Rutter’s Feel the Spirit\, a cycle of seven well-loved spirituals.  Alongside the choir will be conductor David Gostick and a jazz band including a saxophone\, trombone\, and piano. \nTickets can be bought in advance on the PCU’s website or on the door by card payment only.  Adult tickets cost £18\, while tickets for students cost £2.50. \n \n
URL:https://www.portseaparish.co.uk/event/portsmouth-choral-union-passion-music-and-feel-the-spirit/
LOCATION:St Mary’s Church\, Fratton Road\, Portsmouth\, PO1 5PA\, United Kingdom
ORGANIZER;CN="Portsmouth%20Choral%20Union":MAILTO:pcuticketing@gmail.com
END:VEVENT
END:VCALENDAR