BEGIN:VCALENDAR
VERSION:2.0
PRODID:-//Portsea Parish - ECPv5.0.3.1//NONSGML v1.0//EN
CALSCALE:GREGORIAN
METHOD:PUBLISH
X-WR-CALNAME:Portsea Parish
X-ORIGINAL-URL:https://www.portseaparish.co.uk
X-WR-CALDESC:Events for Portsea Parish
BEGIN:VTIMEZONE
TZID:Europe/London
BEGIN:DAYLIGHT
TZOFFSETFROM:+0000
TZOFFSETTO:+0100
TZNAME:BST
DTSTART:20250330T010000
END:DAYLIGHT
BEGIN:STANDARD
TZOFFSETFROM:+0100
TZOFFSETTO:+0000
TZNAME:GMT
DTSTART:20251026T010000
END:STANDARD
END:VTIMEZONE
BEGIN:VEVENT
DTSTART;TZID=Europe/London:20250406T100000
DTEND;TZID=Europe/London:20250406T110000
DTSTAMP:20260421T030609
CREATED:20250405T145535Z
LAST-MODIFIED:20250405T145535Z
UID:37695-1743933600-1743937200@www.portseaparish.co.uk
SUMMARY:Celebrating Christ's Presence - 5th Sunday in Lent - 6th April 2025 - St Mary's Church Portsea
DESCRIPTION:To watch our livestream\, you can go to our Facebook page or our YouTube channel \nTo follow along\, you can find the order of service here. \nIf you would like to sing along\, you can find the hymn sheet here. \nYou can find our notices for the week here. \n \n
URL:https://www.portseaparish.co.uk/event/celebrating-christs-presence-5th-sunday-in-lent-6th-april-2025-st-marys-church-portsea/
LOCATION:St Mary’s Church\, Fratton Road\, Portsmouth\, PO1 5PA\, United Kingdom
END:VEVENT
BEGIN:VEVENT
DTSTART;TZID=Europe/London:20250406T160000
DTEND;TZID=Europe/London:20250406T170000
DTSTAMP:20260421T030609
CREATED:20250403T111410Z
LAST-MODIFIED:20250403T112625Z
UID:37672-1743955200-1743958800@www.portseaparish.co.uk
SUMMARY:Passiontide Meditation
DESCRIPTION:This coming Sunday sees a special Meditation for the season of Passiontide: one of the most important points of the church year. Please join us for this special service of Readings and music – featuring a selection of beautiful and captivating choral works\, organ preludes and piano pieces\, in the glorious space of St Mary’s Church. \nFree entry\, with a retiring collection in aid of the Music Foundation. \n\n
URL:https://www.portseaparish.co.uk/event/passiontide-meditation/
LOCATION:St Mary’s Church\, Fratton Road\, Portsmouth\, PO1 5PA\, United Kingdom
CATEGORIES:Lent,Meditation,Music
ATTACH;FMTTYPE=image/jpeg:https://storage.googleapis.com/portseaparish.appspot.com/1/2025/04/Christ-in-St-Mary_s.jpg
END:VEVENT
END:VCALENDAR