BEGIN:VCALENDAR
VERSION:2.0
PRODID:-//Portsea Parish - ECPv5.0.3.1//NONSGML v1.0//EN
CALSCALE:GREGORIAN
METHOD:PUBLISH
X-WR-CALNAME:Portsea Parish
X-ORIGINAL-URL:https://www.portseaparish.co.uk
X-WR-CALDESC:Events for Portsea Parish
BEGIN:VTIMEZONE
TZID:Europe/London
BEGIN:DAYLIGHT
TZOFFSETFROM:+0000
TZOFFSETTO:+0100
TZNAME:BST
DTSTART:20250330T010000
END:DAYLIGHT
BEGIN:STANDARD
TZOFFSETFROM:+0100
TZOFFSETTO:+0000
TZNAME:GMT
DTSTART:20251026T010000
END:STANDARD
END:VTIMEZONE
BEGIN:VEVENT
DTSTART;TZID=Europe/London:20250509T183000
DTEND;TZID=Europe/London:20250509T193000
DTSTAMP:20260421T044145
CREATED:20250503T083107Z
LAST-MODIFIED:20250503T142508Z
UID:37791-1746815400-1746819000@www.portseaparish.co.uk
SUMMARY:Music Foundation Concert Series: Portsmouth High School's Young Musicians
DESCRIPTION:Join us for an early evening concert of music from the young musicians of Portsmouth High School\, showcasing and celebrating their varied musical achievements. \nEntry is FREE\, with an optional retiring collection in aid of the Music Foundation\, St Mary’s charity which helps provide musical access and education to young people in our local community. \n \n
URL:https://www.portseaparish.co.uk/event/portsmouth-high-prep-school-young-musicians/
LOCATION:St Mary’s Church\, Fratton Road\, Portsmouth\, PO1 5PA\, United Kingdom
CATEGORIES:Community Event,Concert,Music,School
ATTACH;FMTTYPE=image/jpeg:https://storage.googleapis.com/portseaparish.appspot.com/1/2025/05/DSC_5228-676x450-1.jpg
END:VEVENT
END:VCALENDAR