BEGIN:VCALENDAR
VERSION:2.0
PRODID:-//Portsea Parish - ECPv5.0.3.1//NONSGML v1.0//EN
CALSCALE:GREGORIAN
METHOD:PUBLISH
X-WR-CALNAME:Portsea Parish
X-ORIGINAL-URL:https://www.portseaparish.co.uk
X-WR-CALDESC:Events for Portsea Parish
BEGIN:VTIMEZONE
TZID:Europe/London
BEGIN:DAYLIGHT
TZOFFSETFROM:+0000
TZOFFSETTO:+0100
TZNAME:BST
DTSTART:20250330T010000
END:DAYLIGHT
BEGIN:STANDARD
TZOFFSETFROM:+0100
TZOFFSETTO:+0000
TZNAME:GMT
DTSTART:20251026T010000
END:STANDARD
END:VTIMEZONE
BEGIN:VEVENT
DTSTART;TZID=Europe/London:20250517T100000
DTEND;TZID=Europe/London:20250517T120000
DTSTAMP:20260421T043145
CREATED:20220525T111620Z
LAST-MODIFIED:20250515T192121Z
UID:34254-1747476000-1747483200@www.portseaparish.co.uk
SUMMARY:A Big Breakfast for Christian Aid
DESCRIPTION:A chance to enjoy the legendary Bacon butties and help raise funds for Christian Aid. \n\n\n
URL:https://www.portseaparish.co.uk/event/a-big-breakfast-for-christian-aid/
LOCATION:St Faith’s Church\, Craswell Street\, Portsmouth\, Hampshire\, PO1 1HT\, United Kingdom
CATEGORIES:Child Friendly,Coffee Morning,Community Event,Refreshments,Social
ATTACH;FMTTYPE=image/jpeg:https://storage.googleapis.com/portseaparish.appspot.com/1/2022/05/big_breakfast_may2019_3.jpg
END:VEVENT
END:VCALENDAR