BEGIN:VCALENDAR
VERSION:2.0
PRODID:-//Portsea Parish - ECPv5.0.3.1//NONSGML v1.0//EN
CALSCALE:GREGORIAN
METHOD:PUBLISH
X-WR-CALNAME:Portsea Parish
X-ORIGINAL-URL:https://www.portseaparish.co.uk
X-WR-CALDESC:Events for Portsea Parish
BEGIN:VTIMEZONE
TZID:Europe/London
BEGIN:DAYLIGHT
TZOFFSETFROM:+0000
TZOFFSETTO:+0100
TZNAME:BST
DTSTART:20250330T010000
END:DAYLIGHT
BEGIN:STANDARD
TZOFFSETFROM:+0100
TZOFFSETTO:+0000
TZNAME:GMT
DTSTART:20251026T010000
END:STANDARD
END:VTIMEZONE
BEGIN:VEVENT
DTSTART;TZID=Europe/London:20250529T103000
DTEND;TZID=Europe/London:20250529T113000
DTSTAMP:20260421T043253
CREATED:20250525T152320Z
LAST-MODIFIED:20250525T152320Z
UID:37856-1748514600-1748518200@www.portseaparish.co.uk
SUMMARY:Celebrating Christ's Presence: Feast of the Ascension
DESCRIPTION:Join us at St Faith’s as we remember Jesus ascending to heaven to sit at the right hand of his Father. \n \n
URL:https://www.portseaparish.co.uk/event/celebrating-christs-presence-feast-of-the-ascension/
LOCATION:St Mary’s Church\, Fratton Road\, Portsmouth\, PO1 5PA\, United Kingdom
END:VEVENT
END:VCALENDAR