BEGIN:VCALENDAR
VERSION:2.0
PRODID:-//Portsea Parish - ECPv5.0.3.1//NONSGML v1.0//EN
CALSCALE:GREGORIAN
METHOD:PUBLISH
X-WR-CALNAME:Portsea Parish
X-ORIGINAL-URL:https://www.portseaparish.co.uk
X-WR-CALDESC:Events for Portsea Parish
BEGIN:VTIMEZONE
TZID:Europe/London
BEGIN:DAYLIGHT
TZOFFSETFROM:+0000
TZOFFSETTO:+0100
TZNAME:BST
DTSTART:20250330T010000
END:DAYLIGHT
BEGIN:STANDARD
TZOFFSETFROM:+0100
TZOFFSETTO:+0000
TZNAME:GMT
DTSTART:20251026T010000
END:STANDARD
END:VTIMEZONE
BEGIN:VEVENT
DTSTART;TZID=Europe/London:20250624T180000
DTEND;TZID=Europe/London:20250624T190000
DTSTAMP:20260421T060818
CREATED:20250622T142451Z
LAST-MODIFIED:20250622T142451Z
UID:37921-1750788000-1750791600@www.portseaparish.co.uk
SUMMARY:Organ Heritage Workshop - St Mary's Music & Heritage Festival
DESCRIPTION:Explore how St Mary’s historic organ works in a family-friendly workshop.  Activities will include a live demonstration of the organ’s range and an opportunity to play the organ through a virtual keyboard. \n \n
URL:https://www.portseaparish.co.uk/event/organ-heritage-workshop-st-marys-music-heritage-festival/
LOCATION:St Mary’s Church\, Fratton Road\, Portsmouth\, PO1 5PA\, United Kingdom
END:VEVENT
END:VCALENDAR