BEGIN:VCALENDAR
VERSION:2.0
PRODID:-//Portsea Parish - ECPv5.0.3.1//NONSGML v1.0//EN
CALSCALE:GREGORIAN
METHOD:PUBLISH
X-WR-CALNAME:Portsea Parish
X-ORIGINAL-URL:https://www.portseaparish.co.uk
X-WR-CALDESC:Events for Portsea Parish
BEGIN:VTIMEZONE
TZID:Europe/London
BEGIN:DAYLIGHT
TZOFFSETFROM:+0000
TZOFFSETTO:+0100
TZNAME:BST
DTSTART:20250330T010000
END:DAYLIGHT
BEGIN:STANDARD
TZOFFSETFROM:+0100
TZOFFSETTO:+0000
TZNAME:GMT
DTSTART:20251026T010000
END:STANDARD
END:VTIMEZONE
BEGIN:VEVENT
DTSTART;TZID=Europe/London:20250629T100000
DTEND;TZID=Europe/London:20250629T110000
DTSTAMP:20260421T060639
CREATED:20250629T080302Z
LAST-MODIFIED:20250629T080302Z
UID:37942-1751191200-1751194800@www.portseaparish.co.uk
SUMMARY:Celebrating Christ's Presence: 2nd Sunday after Trinity - 29 June 2025 - St Mary's Church Portsea
DESCRIPTION:This service will be livestreamed on our Facebook page and our YouTube channel. \nTo follow along\, you can find the order of service here. \nIf you would like to sing along\, you can find the hymn sheet here. \nYou can find our notices for the week here. \n \n
URL:https://www.portseaparish.co.uk/event/celebrating-christs-presence-2nd-sunday-after-trinity-29-june-2025-st-marys-church-portsea/
LOCATION:St Mary’s Church\, Fratton Road\, Portsmouth\, PO1 5PA\, United Kingdom
END:VEVENT
BEGIN:VEVENT
DTSTART;TZID=Europe/London:20250629T160000
DTEND;TZID=Europe/London:20250629T170000
DTSTAMP:20260421T060640
CREATED:20250622T143957Z
LAST-MODIFIED:20250622T143957Z
UID:37931-1751212800-1751216400@www.portseaparish.co.uk
SUMMARY:Festival Choral Evensong - St Mary's Music & Heritage Festival
DESCRIPTION:Join us as we conclude our Music & Heritage Festival in a service of Choral Evensong\, combining our choir’s musical expertise with a format of worship that has taken place for over 450 years. \nIf you would be interested in singing with our choir for this service\, please contact our Director of Music at dom@portseaparish.co.uk \nThe service will include:\nIntroit: The Lord is My Shepherd – Andrew Downes\nPreces and Responses: Psalm 125 – Ayleward\nCanticles: Gloucester Service – Howells\nAnthem: They That Go Down To The Sea In Ships – Sumsion \n \n
URL:https://www.portseaparish.co.uk/event/festival-choral-evensong-st-marys-music-heritage-festival/
LOCATION:St Mary’s Church\, Fratton Road\, Portsmouth\, PO1 5PA\, United Kingdom
END:VEVENT
END:VCALENDAR