BEGIN:VCALENDAR
VERSION:2.0
PRODID:-//Portsea Parish - ECPv5.0.3.1//NONSGML v1.0//EN
CALSCALE:GREGORIAN
METHOD:PUBLISH
X-WR-CALNAME:Portsea Parish
X-ORIGINAL-URL:https://www.portseaparish.co.uk
X-WR-CALDESC:Events for Portsea Parish
BEGIN:VTIMEZONE
TZID:Europe/London
BEGIN:DAYLIGHT
TZOFFSETFROM:+0000
TZOFFSETTO:+0100
TZNAME:BST
DTSTART:20250330T010000
END:DAYLIGHT
BEGIN:STANDARD
TZOFFSETFROM:+0100
TZOFFSETTO:+0000
TZNAME:GMT
DTSTART:20251026T010000
END:STANDARD
END:VTIMEZONE
BEGIN:VEVENT
DTSTART;TZID=Europe/London:20250719T100000
DTEND;TZID=Europe/London:20250719T120000
DTSTAMP:20260423T103520
CREATED:20250714T175244Z
LAST-MODIFIED:20250714T175244Z
UID:37990-1752919200-1752926400@www.portseaparish.co.uk
SUMMARY:Messy Church: The Race of Life
DESCRIPTION:Explore how we run the race of life in a morning of family-friendly activities. Join us in a series of crafts (making medals\, trophies & trainers)\, art (banners\, altar decorations)\, and sporty activities/obstacle courses. \n9:45am – registration begins\n10am – activities begin\n11:15am – story\, songs and prayer \n \n
URL:https://www.portseaparish.co.uk/event/messy-church-the-race-of-life/
LOCATION:St Mary’s Church\, Fratton Road\, Portsmouth\, PO1 5PA\, United Kingdom
END:VEVENT
END:VCALENDAR