BEGIN:VCALENDAR
VERSION:2.0
PRODID:-//Portsea Parish - ECPv5.0.3.1//NONSGML v1.0//EN
CALSCALE:GREGORIAN
METHOD:PUBLISH
X-WR-CALNAME:Portsea Parish
X-ORIGINAL-URL:https://www.portseaparish.co.uk
X-WR-CALDESC:Events for Portsea Parish
BEGIN:VTIMEZONE
TZID:Europe/London
BEGIN:DAYLIGHT
TZOFFSETFROM:+0000
TZOFFSETTO:+0100
TZNAME:BST
DTSTART:20250330T010000
END:DAYLIGHT
BEGIN:STANDARD
TZOFFSETFROM:+0100
TZOFFSETTO:+0000
TZNAME:GMT
DTSTART:20251026T010000
END:STANDARD
END:VTIMEZONE
BEGIN:VEVENT
DTSTART;TZID=Europe/London:20250720T150000
DTEND;TZID=Europe/London:20250720T160000
DTSTAMP:20260421T073100
CREATED:20250714T174031Z
LAST-MODIFIED:20250714T174031Z
UID:37986-1753023600-1753027200@www.portseaparish.co.uk
SUMMARY:St Mary's Young Musicians Annual Music Concert
DESCRIPTION:Join us as we celebrate our talented young choristers\, their musical abilities\, and the progress they have made over the past year! This will be a FREE concert. \nThere will be an option to donate to St Mary’s Music Foundation\, which supports the musical education and engagement of young people in our community. \n \n
URL:https://www.portseaparish.co.uk/event/st-marys-young-musicians-annual-music-concert/
LOCATION:St Mary’s Church\, Fratton Road\, Portsmouth\, PO1 5PA\, United Kingdom
END:VEVENT
END:VCALENDAR