BEGIN:VCALENDAR
VERSION:2.0
PRODID:-//Portsea Parish - ECPv5.0.3.1//NONSGML v1.0//EN
CALSCALE:GREGORIAN
METHOD:PUBLISH
X-WR-CALNAME:Portsea Parish
X-ORIGINAL-URL:https://www.portseaparish.co.uk
X-WR-CALDESC:Events for Portsea Parish
BEGIN:VTIMEZONE
TZID:Europe/London
BEGIN:DAYLIGHT
TZOFFSETFROM:+0000
TZOFFSETTO:+0100
TZNAME:BST
DTSTART:20250330T010000
END:DAYLIGHT
BEGIN:STANDARD
TZOFFSETFROM:+0100
TZOFFSETTO:+0000
TZNAME:GMT
DTSTART:20251026T010000
END:STANDARD
END:VTIMEZONE
BEGIN:VEVENT
DTSTART;TZID=Europe/London:20250815T190000
DTEND;TZID=Europe/London:20250815T200000
DTSTAMP:20260423T084137
CREATED:20250804T084055Z
LAST-MODIFIED:20250815T102737Z
UID:38028-1755284400-1755288000@www.portseaparish.co.uk
SUMMARY:St Mary's Patronal Mass
DESCRIPTION:As we remember the Assumption of Mary into heaven\, come and give thanks for Mary\, her faith\, and the example that she set us. We will be joined by Ven Kathryn Percival\, Archdeacon of the Meon\, as our guest preacher. \nThe service will be livestreamed on our YouTube channel or our Facebook page. To follow along\, you can find the order of service here. \n \n
URL:https://www.portseaparish.co.uk/event/st-marys-patronal-mass/
LOCATION:St Mary’s Church\, Fratton Road\, Portsmouth\, PO1 5PA\, United Kingdom
END:VEVENT
END:VCALENDAR