BEGIN:VCALENDAR
VERSION:2.0
PRODID:-//Portsea Parish - ECPv5.0.3.1//NONSGML v1.0//EN
CALSCALE:GREGORIAN
METHOD:PUBLISH
X-WR-CALNAME:Portsea Parish
X-ORIGINAL-URL:https://www.portseaparish.co.uk
X-WR-CALDESC:Events for Portsea Parish
BEGIN:VTIMEZONE
TZID:Europe/London
BEGIN:DAYLIGHT
TZOFFSETFROM:+0000
TZOFFSETTO:+0100
TZNAME:BST
DTSTART:20250330T010000
END:DAYLIGHT
BEGIN:STANDARD
TZOFFSETFROM:+0100
TZOFFSETTO:+0000
TZNAME:GMT
DTSTART:20251026T010000
END:STANDARD
END:VTIMEZONE
BEGIN:VEVENT
DTSTART;TZID=Europe/London:20250817T100000
DTEND;TZID=Europe/London:20250817T160000
DTSTAMP:20260421T085710
CREATED:20250804T084400Z
LAST-MODIFIED:20250815T104339Z
UID:38033-1755424800-1755446400@www.portseaparish.co.uk
SUMMARY:St Mary's Outdoor Sunday Service
DESCRIPTION:Join us for an outdoor service in our churchyard\, followed by live music and entertainment. We will also be hosting an outdoor ‘race’ game (no actual racing required) to help fundraise for the choir’s trip to Rochester. \nWe will also be opening St Mary’s tower to the public from 2-4pm (the last entry will be at 3.30pm\, please see the full terms and conditions below); come along for an awesome birds-eye view of Portsmouth! \nThe service will be livestreamed on our YouTube channel and our Facebook page. \nTo follow along\, you can find the order of service here. \nYou can find our notices for the week here. \nThe full terms and conditions for climbing the tower are:\n– Children must be accompanied by an adult at all times\n– No children under the age of 5 years or under 1 metre tall are allowed to climb the tower\n– No open-toed shoes\, sandals or flip flops are allowed\n– You must follow all the instructions from our volunteers\, who will be preventing two-way traffic on the steep and narrow stairs. Please give space to other people to avoid tripping\n– The tower may need to close at short notice due to adverse weather conditions\n– The clergy hold the right to refuse anyone access to the tower if persons are deemed unsafe or not fit to climb\n– The church will not take any responsibility for any accident\, injury\, or theft on our premises.  Enjoy yourself\, but please be vigilant at all times; you climb at your own risk\n– Persons with heart conditions or pre-existing medical conditions\, mobility difficulties or any condition where the effort of climbing is considered hazardous should refrain from attempting this climb. You are required to exercise due care & attention during your visit. \n \n
URL:https://www.portseaparish.co.uk/event/st-marys-outdoor-sunday-service/
LOCATION:St Mary’s Church\, Fratton Road\, Portsmouth\, PO1 5PA\, United Kingdom
END:VEVENT
END:VCALENDAR