BEGIN:VCALENDAR
VERSION:2.0
PRODID:-//Portsea Parish - ECPv5.0.3.1//NONSGML v1.0//EN
CALSCALE:GREGORIAN
METHOD:PUBLISH
X-WR-CALNAME:Portsea Parish
X-ORIGINAL-URL:https://www.portseaparish.co.uk
X-WR-CALDESC:Events for Portsea Parish
BEGIN:VTIMEZONE
TZID:Europe/London
BEGIN:DAYLIGHT
TZOFFSETFROM:+0000
TZOFFSETTO:+0100
TZNAME:BST
DTSTART:20250330T010000
END:DAYLIGHT
BEGIN:STANDARD
TZOFFSETFROM:+0100
TZOFFSETTO:+0000
TZNAME:GMT
DTSTART:20251026T010000
END:STANDARD
END:VTIMEZONE
BEGIN:VEVENT
DTSTART;TZID=Europe/London:20251004T100000
DTEND;TZID=Europe/London:20251004T123000
DTSTAMP:20260421T103628
CREATED:20250922T150452Z
LAST-MODIFIED:20250930T143032Z
UID:38158-1759572000-1759581000@www.portseaparish.co.uk
SUMMARY:Messy Harvest
DESCRIPTION:Join us for a family-friendly morning exploring God’s creation through music\, art\, craft\, and play. \nThis session will recall the story of the miraculous feeding of the 5\,000 with five loaves and two fish; reminding us of God’s ability to use the gifts we offer him\, no matter how small they are. Activities will include making picnic baskets\, bracelets\, and prayer leaves\, and playing conkers! \n \n
URL:https://www.portseaparish.co.uk/event/messy-harvest-4/
LOCATION:St Mary’s Church\, Fratton Road\, Portsmouth\, PO1 5PA\, United Kingdom
END:VEVENT
END:VCALENDAR