BEGIN:VCALENDAR
VERSION:2.0
PRODID:-//Portsea Parish - ECPv5.0.3.1//NONSGML v1.0//EN
CALSCALE:GREGORIAN
METHOD:PUBLISH
X-WR-CALNAME:Portsea Parish
X-ORIGINAL-URL:https://www.portseaparish.co.uk
X-WR-CALDESC:Events for Portsea Parish
BEGIN:VTIMEZONE
TZID:Europe/London
BEGIN:DAYLIGHT
TZOFFSETFROM:+0000
TZOFFSETTO:+0100
TZNAME:BST
DTSTART:20250330T010000
END:DAYLIGHT
BEGIN:STANDARD
TZOFFSETFROM:+0100
TZOFFSETTO:+0000
TZNAME:GMT
DTSTART:20251026T010000
END:STANDARD
END:VTIMEZONE
BEGIN:VEVENT
DTSTART;TZID=Europe/London:20251020T183000
DTEND;TZID=Europe/London:20251029T160000
DTSTAMP:20260421T120358
CREATED:20251018T104727Z
LAST-MODIFIED:20251018T104727Z
UID:38229-1760985000-1761753600@www.portseaparish.co.uk
SUMMARY:Festival of Light: Lantern Making Workshop
DESCRIPTION:Join us for FREE lantern making workshops\, in preparation for the Festival of Light Lantern Parade on 14 November. The workshops are open to adults and accompanied children\, and provide a great opportunity to be crafty and spend time with your local community. \nTo take part\, simply come along on:\n– Monday 20 October\, from 6.30-8.30pm at Fratton Community Centre\, Trafalgar Place\, PO1 5JJ\n– Friday 24 October\, from 4-7pm\, at Fratton Together\, 95 Fratton Road\, PO1 5AG\n– Sunday 26 October\, from 12.30-4.30pm at St Mary’s Church (round the side)\, Fratton Road\, PO1 5PA\n– Wednesday 29 October\, 1.30-4pm at Fratton Together\, 95 Fratton Road\, PO1 5AG \nFor more information\, please contact events@frattontogether.org \n \n
URL:https://www.portseaparish.co.uk/event/festival-of-light-lantern-making-workshop/
LOCATION:St Mary’s Church\, Fratton Road\, Portsmouth\, PO1 5PA\, United Kingdom
END:VEVENT
BEGIN:VEVENT
DTSTART;TZID=Europe/London:20251024T190000
DTEND;TZID=Europe/London:20251024T213000
DTSTAMP:20260421T120358
CREATED:20250929T105701Z
LAST-MODIFIED:20250930T141317Z
UID:38181-1761332400-1761341400@www.portseaparish.co.uk
SUMMARY:Wrestling: Live at St Mary's Church
DESCRIPTION:St Mary’s Suplex will be putting on an electrifying\, family-friendly wrestling show to help raise money for St Mary’s Music Foundation\, our charity which provides musical education and opportunities for local young people. \nCome along for a unique experience\, with performances from local talent (including one of our choristers and their family!). Tickets cost £5 for children\, £10 for adults\, and £30 for families (two adults and up to four children); they can be purchased online. \nA message form St Mary’s Suplex: \n“We’re not here to compete with other wrestling organisations. Instead\, we aim to complement the local scene by offering fans more chances to enjoy live wrestling in a fun\, inclusive environment. Our mission is simple: raise funds through entertainment\, bringing communities together while supporting a cause that makes a real difference. \nThank you for being part of the journey and for helping us champion both wrestling and music for the next generation.” \n \n
URL:https://www.portseaparish.co.uk/event/wrestling-live-at-st-marys-church/
LOCATION:St Mary’s Church\, Fratton Road\, Portsmouth\, PO1 5PA\, United Kingdom
END:VEVENT
END:VCALENDAR