BEGIN:VCALENDAR
VERSION:2.0
PRODID:-//Portsea Parish - ECPv5.0.3.1//NONSGML v1.0//EN
CALSCALE:GREGORIAN
METHOD:PUBLISH
X-WR-CALNAME:Portsea Parish
X-ORIGINAL-URL:https://www.portseaparish.co.uk
X-WR-CALDESC:Events for Portsea Parish
BEGIN:VTIMEZONE
TZID:Europe/London
BEGIN:DAYLIGHT
TZOFFSETFROM:+0000
TZOFFSETTO:+0100
TZNAME:BST
DTSTART:20250330T010000
END:DAYLIGHT
BEGIN:STANDARD
TZOFFSETFROM:+0100
TZOFFSETTO:+0000
TZNAME:GMT
DTSTART:20251026T010000
END:STANDARD
END:VTIMEZONE
BEGIN:VEVENT
DTSTART;TZID=Europe/London:20251101T100000
DTEND;TZID=Europe/London:20251101T120000
DTSTAMP:20260421T120244
CREATED:20251023T155225Z
LAST-MODIFIED:20251023T155225Z
UID:38244-1761991200-1761998400@www.portseaparish.co.uk
SUMMARY:St Mary's Autumn Fair
DESCRIPTION:Come along to our Autumn Fair\, filled with books\, jewellery\, crafts\, toys\, baked goods\, and more! You’ll also be able to take part in the raffle\, sit down for some refreshments\, and say hello to our friendly volunteers. \nOn top of giving you the chance to find unique items at bargain prices\, the proceeds of our stalls help us to continue our work in and around Fratton and the wider Portsmouth community. \n \n
URL:https://www.portseaparish.co.uk/event/st-marys-autumn-fair/
LOCATION:St Mary’s Church\, Fratton Road\, Portsmouth\, PO1 5PA\, United Kingdom
END:VEVENT
BEGIN:VEVENT
DTSTART;TZID=Europe/London:20251101T180000
DTEND;TZID=Europe/London:20251101T190000
DTSTAMP:20260421T120244
CREATED:20251025T143514Z
LAST-MODIFIED:20251025T143514Z
UID:38248-1762020000-1762023600@www.portseaparish.co.uk
SUMMARY:Requiem Mass for All Souls
DESCRIPTION:Join us as we remember and pray for those who we have loved and who have sadly passed away. \nAs part of the service\, the choir will sing John Tavener’s Funeral Ikos and Howard Goodall’s Lacrymosa. \n \n
URL:https://www.portseaparish.co.uk/event/requiem-mass-for-all-souls-4/
LOCATION:St Mary’s Church\, Fratton Road\, Portsmouth\, PO1 5PA\, United Kingdom
END:VEVENT
END:VCALENDAR