BEGIN:VCALENDAR
VERSION:2.0
PRODID:-//Portsea Parish - ECPv5.0.3.1//NONSGML v1.0//EN
CALSCALE:GREGORIAN
METHOD:PUBLISH
X-WR-CALNAME:Portsea Parish
X-ORIGINAL-URL:https://www.portseaparish.co.uk
X-WR-CALDESC:Events for Portsea Parish
BEGIN:VTIMEZONE
TZID:Europe/London
BEGIN:DAYLIGHT
TZOFFSETFROM:+0000
TZOFFSETTO:+0100
TZNAME:BST
DTSTART:20250330T010000
END:DAYLIGHT
BEGIN:STANDARD
TZOFFSETFROM:+0100
TZOFFSETTO:+0000
TZNAME:GMT
DTSTART:20251026T010000
END:STANDARD
END:VTIMEZONE
BEGIN:VEVENT
DTSTART;TZID=Europe/London:20251114T190000
DTEND;TZID=Europe/London:20251114T200000
DTSTAMP:20260421T133407
CREATED:20251112T163036Z
LAST-MODIFIED:20251112T163036Z
UID:38295-1763146800-1763150400@www.portseaparish.co.uk
SUMMARY:Fratton Together's Festival of Lights
DESCRIPTION:As part of Fratton Together’s 12th annual Festival of Lights\, there will be a parade down Fratton Road on 14 November\, starting from behind the Victory Business Centre (PO1 1PJ) at 7pm and finishing at St Mary’s Church. \nThe procession will be led by the Lord Mayor of Portsmouth and the Batala Samba Band\, who will provide a joyous marching beat. Upon arrival at St Mary’s Church\, there will be various performances from local performing groups\, including the Portsmouth Academy Dance Company and St Mary’s Church choir. The evening will end with a performance by Batala Samba Band. \nIf you would like to bring your own lanterns\, in addition to the handcrafted lanterns made earlier this month at Fratton Together’s workshops\, please ensure that they are battery powered; no naked flames will be allowed. \n \n
URL:https://www.portseaparish.co.uk/event/fratton-togethers-festival-of-lights/
LOCATION:Victory Business Centre\, Somers Rd N\, Portsmouth\, PO1 1PJ\, United Kingdom
END:VEVENT
END:VCALENDAR