BEGIN:VCALENDAR
VERSION:2.0
PRODID:-//Portsea Parish - ECPv5.0.3.1//NONSGML v1.0//EN
CALSCALE:GREGORIAN
METHOD:PUBLISH
X-WR-CALNAME:Portsea Parish
X-ORIGINAL-URL:https://www.portseaparish.co.uk
X-WR-CALDESC:Events for Portsea Parish
BEGIN:VTIMEZONE
TZID:Europe/London
BEGIN:DAYLIGHT
TZOFFSETFROM:+0000
TZOFFSETTO:+0100
TZNAME:BST
DTSTART:20250330T010000
END:DAYLIGHT
BEGIN:STANDARD
TZOFFSETFROM:+0100
TZOFFSETTO:+0000
TZNAME:GMT
DTSTART:20251026T010000
END:STANDARD
END:VTIMEZONE
BEGIN:VEVENT
DTSTART;TZID=Europe/London:20251122T193000
DTEND;TZID=Europe/London:20251122T210000
DTSTAMP:20260421T133506
CREATED:20251120T134937Z
LAST-MODIFIED:20251120T134937Z
UID:38324-1763839800-1763845200@www.portseaparish.co.uk
SUMMARY:Portsmouth Choral Union: Toward the Unknown Region
DESCRIPTION:In collaboration with the Medici Choir\, the Portsmouth Choral Union will be be performing Finzi’s ‘Intimations of Immortality’\, Elgar’s ‘Cello Concerto’ and Vaughan Williams’ ‘Towards the Unknown Region’. \nAlongside the two choirs\, James Gilchrist\, who has appeared on the BBC Proms\, will be singing as a tenor and Pavlos Carvalho\, a prize-winner in international music competitions\, will be playing the cello. \nTickets must be bought in advance from the PCU’s website. For adults\, the price of entry is £20; for children & students\, entry costs £2.50. \n \n
URL:https://www.portseaparish.co.uk/event/portsmouth-choral-union-toward-the-unknown-region/
LOCATION:St Mary’s Church\, Fratton Road\, Portsmouth\, PO1 5PA\, United Kingdom
ORGANIZER;CN="Portsmouth%20Choral%20Union":MAILTO:pcuticketing@gmail.com
END:VEVENT
END:VCALENDAR