BEGIN:VCALENDAR
VERSION:2.0
PRODID:-//Portsea Parish - ECPv5.0.3.1//NONSGML v1.0//EN
CALSCALE:GREGORIAN
METHOD:PUBLISH
X-WR-CALNAME:Portsea Parish
X-ORIGINAL-URL:https://www.portseaparish.co.uk
X-WR-CALDESC:Events for Portsea Parish
BEGIN:VTIMEZONE
TZID:Europe/London
BEGIN:DAYLIGHT
TZOFFSETFROM:+0000
TZOFFSETTO:+0100
TZNAME:BST
DTSTART:20250330T010000
END:DAYLIGHT
BEGIN:STANDARD
TZOFFSETFROM:+0100
TZOFFSETTO:+0000
TZNAME:GMT
DTSTART:20251026T010000
END:STANDARD
END:VTIMEZONE
BEGIN:VEVENT
DTSTART;TZID=Europe/London:20251129T100000
DTEND;TZID=Europe/London:20251129T120000
DTSTAMP:20260421T133341
CREATED:20251122T123438Z
LAST-MODIFIED:20251126T103644Z
UID:38338-1764410400-1764417600@www.portseaparish.co.uk
SUMMARY:Messy Advent
DESCRIPTION:Join us for a free\, family-friendly morning of crafts\, activities\, songs\, and stories as we celebrate the coming of Jesus\, God’s greatest gift to the world. \nActivities will include wreath-making\, angel decorating\, making Christmas cards and lanterns\, and a hunt for the wise men’s three gifts. \nRegistration will begin at 9:45am\, with activities taking place between 10 and 11:15am\, before concluding stories\, songs and prayers. \n \n
URL:https://www.portseaparish.co.uk/event/messy-advent-4/
LOCATION:St Mary’s Church\, Fratton Road\, Portsmouth\, PO1 5PA\, United Kingdom
END:VEVENT
BEGIN:VEVENT
DTSTART;TZID=Europe/London:20251129T190000
DTEND;TZID=Europe/London:20251129T210000
DTSTAMP:20260421T133341
CREATED:20251120T135856Z
LAST-MODIFIED:20251122T120853Z
UID:38328-1764442800-1764450000@www.portseaparish.co.uk
SUMMARY:Bournemouth Symphony Orchestra: Serenades and Starbursts
DESCRIPTION:Join the 19-piece Bournemouth Symphony Orchestra Strings Ensemble for a concert that will pull at your heartstrings and satisfy any curious soul. The concert will include pieces such as Tchaikovsky’s Serenade for Strings\, Jesse Montgomery’s Starburst\, and Holst’s homage to British folk songs\, his St. Paul’s Suite. \nFor a full programme and to buy tickets (tickets for adults cost £19\, concessions tickets cost £5)\, please go to the Bournemouth Symphony Orchestra’s website. \n \n
URL:https://www.portseaparish.co.uk/event/bournemouth-symphony-orchestra-serenades-and-starbursts/
LOCATION:St Mary’s Church\, Fratton Road\, Portsmouth\, PO1 5PA\, United Kingdom
END:VEVENT
END:VCALENDAR