BEGIN:VCALENDAR
VERSION:2.0
PRODID:-//Portsea Parish - ECPv5.0.3.1//NONSGML v1.0//EN
CALSCALE:GREGORIAN
METHOD:PUBLISH
X-WR-CALNAME:Portsea Parish
X-ORIGINAL-URL:https://www.portseaparish.co.uk
X-WR-CALDESC:Events for Portsea Parish
BEGIN:VTIMEZONE
TZID:Europe/London
BEGIN:DAYLIGHT
TZOFFSETFROM:+0000
TZOFFSETTO:+0100
TZNAME:BST
DTSTART:20250330T010000
END:DAYLIGHT
BEGIN:STANDARD
TZOFFSETFROM:+0100
TZOFFSETTO:+0000
TZNAME:GMT
DTSTART:20251026T010000
END:STANDARD
END:VTIMEZONE
BEGIN:VEVENT
DTSTART;TZID=Europe/London:20251130T100000
DTEND;TZID=Europe/London:20251130T110000
DTSTAMP:20260421T133332
CREATED:20251127T102748Z
LAST-MODIFIED:20251127T102748Z
UID:38364-1764496800-1764500400@www.portseaparish.co.uk
SUMMARY:Celebrating Christ's Presence: Advent Sunday - 30 November 2025 - St Mary's Church\, Portsea
DESCRIPTION:Join us for our weekly Sunday Eucharist\, in the season of Advent. The service will be livestreamed on our Facebook page and our YouTube channel. \nTo follow along\, you can find the order of service here. \nIf you would like to sing along\, you can find the hymn sheet here. \nYou can find our notices for the week here. \n \n
URL:https://www.portseaparish.co.uk/event/celebrating-christs-presence-advent-sunday-30-november-2025-st-marys-church-portsea/
LOCATION:St Mary’s Church\, Fratton Road\, Portsmouth\, PO1 5PA\, United Kingdom
END:VEVENT
BEGIN:VEVENT
DTSTART;TZID=Europe/London:20251130T180000
DTEND;TZID=Europe/London:20251130T190000
DTSTAMP:20260421T133332
CREATED:20251124T100845Z
LAST-MODIFIED:20251130T161441Z
UID:38350-1764525600-1764529200@www.portseaparish.co.uk
SUMMARY:Advent Candlelit Service
DESCRIPTION:As we welcome the beginning of Advent and the start of our preparations for the birth of Christ\, join our talented choir for a special service of Advent music in candlelight. \nThis service will be livestreamed\, you can follow along on our Facebook page and our YouTube channel. \n \n
URL:https://www.portseaparish.co.uk/event/advent-candlelit-service/
LOCATION:St Mary’s Church\, Fratton Road\, Portsmouth\, PO1 5PA\, United Kingdom
END:VEVENT
END:VCALENDAR