BEGIN:VCALENDAR
VERSION:2.0
PRODID:-//Portsea Parish - ECPv5.0.3.1//NONSGML v1.0//EN
CALSCALE:GREGORIAN
METHOD:PUBLISH
X-WR-CALNAME:Portsea Parish
X-ORIGINAL-URL:https://www.portseaparish.co.uk
X-WR-CALDESC:Events for Portsea Parish
BEGIN:VTIMEZONE
TZID:Europe/London
BEGIN:DAYLIGHT
TZOFFSETFROM:+0000
TZOFFSETTO:+0100
TZNAME:BST
DTSTART:20250330T010000
END:DAYLIGHT
BEGIN:STANDARD
TZOFFSETFROM:+0100
TZOFFSETTO:+0000
TZNAME:GMT
DTSTART:20251026T010000
END:STANDARD
END:VTIMEZONE
BEGIN:VEVENT
DTSTART;TZID=Europe/London:20251207T100000
DTEND;TZID=Europe/London:20251207T110000
DTSTAMP:20260421T152039
CREATED:20251205T225440Z
LAST-MODIFIED:20251205T225440Z
UID:38399-1765101600-1765105200@www.portseaparish.co.uk
SUMMARY:Celebrating Christ's Presence: 2nd Sunday of Advent - 7 December 2025 - St Mary's Church\, Portsea
DESCRIPTION:Join us for our weekly Sunday Eucharist\, in the season of Advent. The service will be livestreamed on our Facebook page and our YouTube channel. \nTo engage with the service\, you can find the order of service\, hymn sheet and this week’s notices on our AChurchNearYou page. \n \n
URL:https://www.portseaparish.co.uk/event/celebrating-christs-presence-2nd-sunday-of-advent-7-december-2025-st-marys-church-portsea/
LOCATION:St Mary’s Church\, Fratton Road\, Portsmouth\, PO1 5PA\, United Kingdom
END:VEVENT
BEGIN:VEVENT
DTSTART;TZID=Europe/London:20251207T160000
DTEND;TZID=Europe/London:20251207T170000
DTSTAMP:20260421T152039
CREATED:20251124T095105Z
LAST-MODIFIED:20251124T095105Z
UID:38347-1765123200-1765126800@www.portseaparish.co.uk
SUMMARY:A Christmas Concert\, presented by the Milton Glee Choir and Royal Marines Association Concert Band
DESCRIPTION:The Milton Glee Choir and the Royal Marines Association Concert Band are once again joining forces to present their regular Christmas Concert\, with fundraising in aid of the Royal Marines Charity. \nThe Concert will feature festive pieces from both the Choir and Band as well as joint numbers and some audience participation. Get yourself in the festive mood with this great start to the holiday season. \nTickets\, which cost £15 per person\, can be purchased from the Milton Glee Choir’s site. \n \n
URL:https://www.portseaparish.co.uk/event/a-christmas-concert-presented-by-the-milton-glee-choir-and-royal-marines-association-concert-band/
LOCATION:St Mary’s Church\, Fratton Road\, Portsmouth\, PO1 5PA\, United Kingdom
END:VEVENT
END:VCALENDAR